BEGIN:VCALENDAR
VERSION:2.0
PRODID:-//InvisionCommunity Events 4.7.23//EN
METHOD:PUBLISH
CALSCALE:GREGORIAN
REFRESH-INTERVAL:PT15M
X-PUBLISHED-TTL:PT15M
X-WR-CALNAME:Pogdesign
NAME:Pogdesign
BEGIN:VTIMEZONE
TZID:Europe/London
TZURL:http://tzurl.org/zoneinfo/Europe/London
X-LIC-LOCATION:Europe/London
BEGIN:DAYLIGHT
TZOFFSETFROM:+0000
TZOFFSETTO:+0100
TZNAME:BST
DTSTART:20150329T020000Z
RRULE:FREQ=YEARLY;BYMONTH=3;BYDAY=-1SU
END:DAYLIGHT
BEGIN:STANDARD
TZOFFSETFROM:+0100
TZOFFSETTO:+0000
TZNAME:GMT
DTSTART:20151025T020000Z
RRULE:FREQ=YEARLY;BYMONTH=10;BYDAY=-1SU
END:STANDARD
END:VTIMEZONE
BEGIN:VEVENT
SUMMARY:Melissa & Joey 4x8 - Face the Music
DTSTAMP:20150212T052939Z
SEQUENCE:0
UID:29309-3-841ebed20eb198c4569419e99b7bf40a@themidnightzone.com
ORGANIZER;CN="Midnight":midnight@themidnightzone.com
DESCRIPTION:\nMel discovers Dani is something of a musical prodigy and g
	etsher a piano to foster Dani's dreams. But she's caught off guardto find 
	Joe opposed to it\, until she uncovers his secretmusical past in a boy ban
	d. This episode features Joey Lawrencesinging \"911\".Meanwhile\, Lennox p
	ressures Zanderto choose between working on \"Cassandra: The Movie\"with h
	er\, or continuing a relationship with his possessivegirlfriend\, Lilah.\n
DTSTART:20150225T200000Z
DTEND:20150225T203000Z
END:VEVENT
END:VCALENDAR
