BEGIN:VCALENDAR
VERSION:2.0
PRODID:-//InvisionCommunity Events 4.7.23//EN
METHOD:PUBLISH
CALSCALE:GREGORIAN
REFRESH-INTERVAL:PT15M
X-PUBLISHED-TTL:PT15M
X-WR-CALNAME:Pogdesign
NAME:Pogdesign
BEGIN:VTIMEZONE
TZID:Europe/London
TZURL:http://tzurl.org/zoneinfo/Europe/London
X-LIC-LOCATION:Europe/London
BEGIN:DAYLIGHT
TZOFFSETFROM:+0000
TZOFFSETTO:+0100
TZNAME:BST
DTSTART:20150329T020000Z
RRULE:FREQ=YEARLY;BYMONTH=3;BYDAY=-1SU
END:DAYLIGHT
BEGIN:STANDARD
TZOFFSETFROM:+0100
TZOFFSETTO:+0000
TZNAME:GMT
DTSTART:20151025T020000Z
RRULE:FREQ=YEARLY;BYMONTH=10;BYDAY=-1SU
END:STANDARD
END:VTIMEZONE
BEGIN:VEVENT
SUMMARY:AX Men 8x10 - All's Fair in Loggin' War
DTSTAMP:20150213T135132Z
SEQUENCE:0
UID:29358-3-841ebed20eb198c4569419e99b7bf40a@themidnightzone.com
ORGANIZER;CN="Midnight":midnight@themidnightzone.com
DESCRIPTION:\nDown in the swamps of Louisiana\, Shelby Stanga is trying 
	toupgrade his logging empire\, so he takes a risk and tries outsome new eq
	uipment. In the Pacific Northwest\, Rygaard has beenstruggling all season\
	, but wildcard DJ Jeremiah just mayprovide the spark they've been missing.
	 In British Columbia\,Triack's production is slowing down due to steep ter
	rain andnarrow logging roads. And in the Southeast\, the Dreadknotshave fa
	llen behind Chapman and are feeling the heat\, so todaythey'll travel deep
	 into the Withlacoochee River in search ofthe sunken treasure. And on the 
	high plains of Wyoming\, DavidZitterkopf's log buyer has a unique and spec
	ial order - onethat won't be easy to fill.\n
DTSTART:20150215T210000Z
DTEND:20150215T220000Z
END:VEVENT
END:VCALENDAR
