BEGIN:VCALENDAR
VERSION:2.0
PRODID:-//InvisionCommunity Events 4.7.23//EN
METHOD:PUBLISH
CALSCALE:GREGORIAN
REFRESH-INTERVAL:PT15M
X-PUBLISHED-TTL:PT15M
X-WR-CALNAME:Pogdesign
NAME:Pogdesign
BEGIN:VTIMEZONE
TZID:Europe/London
TZURL:http://tzurl.org/zoneinfo/Europe/London
X-LIC-LOCATION:Europe/London
BEGIN:DAYLIGHT
TZOFFSETFROM:+0000
TZOFFSETTO:+0100
TZNAME:BST
DTSTART:20150329T020000Z
RRULE:FREQ=YEARLY;BYMONTH=3;BYDAY=-1SU
END:DAYLIGHT
BEGIN:STANDARD
TZOFFSETFROM:+0100
TZOFFSETTO:+0000
TZNAME:GMT
DTSTART:20151025T020000Z
RRULE:FREQ=YEARLY;BYMONTH=10;BYDAY=-1SU
END:STANDARD
END:VTIMEZONE
BEGIN:VEVENT
SUMMARY:Secrets & Lies 1x1 - The Trail
DTSTAMP:20150216T075234Z
SEQUENCE:0
UID:29561-3-841ebed20eb198c4569419e99b7bf40a@themidnightzone.com
ORGANIZER;CN="Midnight":midnight@themidnightzone.com
DESCRIPTION:\nBen is out for his usual morning jog when he comes upon th
	ebody of young Tom Murphy. After the news begins to spreadthroughout town\
	, Detective Cornell\, who's been assigned tothe case\, pays Ben a visit fo
	r routine questioning. In theblink of an eye\, Ben quickly turns from Good
	 Samaritan tomurder suspect. As the formidable detective searches for thef
	acts\, the media hone in on Ben and his family\, and hestruggles to escape
	 from the pressure. From that point on\,Ben's life is turned upside down a
	s he sets out on acomplicated journey to prove his innocence.\n
DTSTART:20150301T210000Z
DTEND:20150301T220000Z
END:VEVENT
END:VCALENDAR
