BEGIN:VCALENDAR
VERSION:2.0
PRODID:-//InvisionCommunity Events 4.7.23//EN
METHOD:PUBLISH
CALSCALE:GREGORIAN
REFRESH-INTERVAL:PT15M
X-PUBLISHED-TTL:PT15M
X-WR-CALNAME:Pogdesign
NAME:Pogdesign
BEGIN:VTIMEZONE
TZID:Europe/London
TZURL:http://tzurl.org/zoneinfo/Europe/London
X-LIC-LOCATION:Europe/London
BEGIN:DAYLIGHT
TZOFFSETFROM:+0000
TZOFFSETTO:+0100
TZNAME:BST
DTSTART:20150329T020000Z
RRULE:FREQ=YEARLY;BYMONTH=3;BYDAY=-1SU
END:DAYLIGHT
BEGIN:STANDARD
TZOFFSETFROM:+0100
TZOFFSETTO:+0000
TZNAME:GMT
DTSTART:20151025T020000Z
RRULE:FREQ=YEARLY;BYMONTH=10;BYDAY=-1SU
END:STANDARD
END:VTIMEZONE
BEGIN:VEVENT
SUMMARY:Shameless (US) 5x7 - Tell Me You Fucking Need Me
DTSTAMP:20150216T075234Z
SEQUENCE:0
UID:29563-3-841ebed20eb198c4569419e99b7bf40a@themidnightzone.com
ORGANIZER;CN="Midnight":midnight@themidnightzone.com
DESCRIPTION:\nAs Ian beings to regain some of his senses\, he is upset t
	ofind himself under a mandatory 72-hour hold at the psychward.Meanwhile\, 
	when Frank returns home from the hospitalrefusing to apologize to Sammi an
	d with a new determination totake care of himself without her help\, Sammi
	 is forced to takemore drastic measures to teach Frank a valuable lesson.I
	n theaftermath of her sleeping with Jimmy\, Fiona must make toughdecisions
	 regarding her potential romantic future with Jimmy orGus.Lip learns that 
	he never filled out his financial aid formsand that his tuition is short  
	thousand. Debbie works hardto get out of the 'friend zone' with Derek. Car
	l seizes anopportunity from Sammi to make Chuckie his slave. And after Vmo
	ves out\, Svetlana moves in with Kev in exchange for theperformance of som
	e odd 'wifely duties'.\n
DTSTART:20150301T210000Z
DTEND:20150301T220000Z
END:VEVENT
END:VCALENDAR
