BEGIN:VCALENDAR
VERSION:2.0
PRODID:-//InvisionCommunity Events 4.7.23//EN
METHOD:PUBLISH
CALSCALE:GREGORIAN
REFRESH-INTERVAL:PT15M
X-PUBLISHED-TTL:PT15M
X-WR-CALNAME:Pogdesign
NAME:Pogdesign
BEGIN:VTIMEZONE
TZID:Europe/London
TZURL:http://tzurl.org/zoneinfo/Europe/London
X-LIC-LOCATION:Europe/London
BEGIN:DAYLIGHT
TZOFFSETFROM:+0000
TZOFFSETTO:+0100
TZNAME:BST
DTSTART:20150329T020000Z
RRULE:FREQ=YEARLY;BYMONTH=3;BYDAY=-1SU
END:DAYLIGHT
BEGIN:STANDARD
TZOFFSETFROM:+0100
TZOFFSETTO:+0000
TZNAME:GMT
DTSTART:20151025T020000Z
RRULE:FREQ=YEARLY;BYMONTH=10;BYDAY=-1SU
END:STANDARD
END:VTIMEZONE
BEGIN:VEVENT
SUMMARY:The Goldbergs 2x15 - Just Say No
DTSTAMP:20150219T144852Z
SEQUENCE:0
UID:29764-3-841ebed20eb198c4569419e99b7bf40a@themidnightzone.com
ORGANIZER;CN="Midnight":midnight@themidnightzone.com
DESCRIPTION:\nAs the presidential election approaches\, Erica finds hers
	elfstrongly supporting candidate Walter Mondale. After learningBeverly alw
	ays votes for whomever Murray tells her to votefor\, Erica sets out to edu
	cate her mother and goes horriblywrong when Beverly favors another candida
	te. Meanwhile\, Barrywants to appear on an athletic game show to prove his
	 prowessafter losing a wrestling match.\n
DTSTART:20150304T203000Z
DTEND:20150304T210000Z
END:VEVENT
END:VCALENDAR
