BEGIN:VCALENDAR
VERSION:2.0
PRODID:-//InvisionCommunity Events 4.7.23//EN
METHOD:PUBLISH
CALSCALE:GREGORIAN
REFRESH-INTERVAL:PT15M
X-PUBLISHED-TTL:PT15M
X-WR-CALNAME:At My TV
NAME:At My TV
BEGIN:VTIMEZONE
TZID:Europe/London
TZURL:http://tzurl.org/zoneinfo/Europe/London
X-LIC-LOCATION:Europe/London
BEGIN:DAYLIGHT
TZOFFSETFROM:+0000
TZOFFSETTO:+0100
TZNAME:BST
DTSTART:20150329T020000Z
RRULE:FREQ=YEARLY;BYMONTH=3;BYDAY=-1SU
END:DAYLIGHT
BEGIN:STANDARD
TZOFFSETFROM:+0100
TZOFFSETTO:+0000
TZNAME:GMT
DTSTART:20151025T020000Z
RRULE:FREQ=YEARLY;BYMONTH=10;BYDAY=-1SU
END:STANDARD
END:VTIMEZONE
BEGIN:VEVENT
SUMMARY:Ultimate Survival Alaska 3x11 - Long Way Down
DTSTAMP:20150223T101745Z
SEQUENCE:0
UID:30027-2-841ebed20eb198c4569419e99b7bf40a@themidnightzone.com
ORGANIZER;CN="Midnight":midnight@themidnightzone.com
DESCRIPTION:\nEleven legs in\, the competitors are starting to feel the 
	painas Alaska pushes them over the edge. The four teams are droppedbelow a
	 steep peak high in the Alaska Range\, and as they climbto find the insert
	ion flag\, the elevation takes its toll. Oncethey reach the flag\, they fi
	nd that they must descend 2\,000feet to the Triumvirate Glacier\, then bat
	tle 24 miles of icefields\, frigid rivers and rugged terrain to reach the 
	LZ atBeluga Lake.\n
DTSTART:20150309T010000Z
DTEND:20150309T020000Z
END:VEVENT
END:VCALENDAR
