BEGIN:VCALENDAR
VERSION:2.0
PRODID:-//InvisionCommunity Events 4.7.23//EN
METHOD:PUBLISH
CALSCALE:GREGORIAN
REFRESH-INTERVAL:PT15M
X-PUBLISHED-TTL:PT15M
X-WR-CALNAME:Pogdesign
NAME:Pogdesign
BEGIN:VTIMEZONE
TZID:Europe/London
TZURL:http://tzurl.org/zoneinfo/Europe/London
X-LIC-LOCATION:Europe/London
BEGIN:DAYLIGHT
TZOFFSETFROM:+0000
TZOFFSETTO:+0100
TZNAME:BST
DTSTART:20150329T020000Z
RRULE:FREQ=YEARLY;BYMONTH=3;BYDAY=-1SU
END:DAYLIGHT
BEGIN:STANDARD
TZOFFSETFROM:+0100
TZOFFSETTO:+0000
TZNAME:GMT
DTSTART:20151025T020000Z
RRULE:FREQ=YEARLY;BYMONTH=10;BYDAY=-1SU
END:STANDARD
END:VTIMEZONE
BEGIN:VEVENT
SUMMARY:The Fosters 2x19 - Justify The Means
DTSTAMP:20150224T071430Z
SEQUENCE:0
UID:30054-3-841ebed20eb198c4569419e99b7bf40a@themidnightzone.com
ORGANIZER;CN="Midnight":midnight@themidnightzone.com
DESCRIPTION:\nStef confides in Lena and Callie about a plan that will ma
	ke itpossible for the Adams Fosters to adopt Callie\, but she's notbeing f
	ully honest about some of the steps she's taken to putthe plan in motion. 
	In turn\, Lena hasn't been completelytruthful with Stef about her conflict
	ing emotions overexpanding their family. Meanwhile\, Brandon has an opport
	unityto pursue his dream of being a classical musician\, but itcould come 
	at a price. Jude breaks the rules in order to bewith Connor and faces dire
	 consequences.\n
DTSTART:20150309T200000Z
DTEND:20150309T210000Z
END:VEVENT
END:VCALENDAR
