BEGIN:VCALENDAR
VERSION:2.0
PRODID:-//InvisionCommunity Events 4.7.23//EN
METHOD:PUBLISH
CALSCALE:GREGORIAN
REFRESH-INTERVAL:PT15M
X-PUBLISHED-TTL:PT15M
X-WR-CALNAME:Pogdesign
NAME:Pogdesign
BEGIN:VTIMEZONE
TZID:Europe/London
TZURL:http://tzurl.org/zoneinfo/Europe/London
X-LIC-LOCATION:Europe/London
BEGIN:DAYLIGHT
TZOFFSETFROM:+0000
TZOFFSETTO:+0100
TZNAME:BST
DTSTART:20150329T020000Z
RRULE:FREQ=YEARLY;BYMONTH=3;BYDAY=-1SU
END:DAYLIGHT
BEGIN:STANDARD
TZOFFSETFROM:+0100
TZOFFSETTO:+0000
TZNAME:GMT
DTSTART:20151025T020000Z
RRULE:FREQ=YEARLY;BYMONTH=10;BYDAY=-1SU
END:STANDARD
END:VTIMEZONE
BEGIN:VEVENT
SUMMARY:Empire 1x10 - Sins of the Father
DTSTAMP:20150226T125012Z
SEQUENCE:0
UID:30167-3-841ebed20eb198c4569419e99b7bf40a@themidnightzone.com
ORGANIZER;CN="Midnight":midnight@themidnightzone.com
DESCRIPTION:\nAndre forms a new musical relationship with Michelle\, and
	 awoman from Lucious' past\, Angie\, comes into the picture.Meanwhile\, Lu
	cious invites the whole family over to his home.However\, everyone arrives
	 with their own agendas. Hakeem\,under the influence of Camilla\, sets out
	 to show his fatherthat he's a true artist and a good businessman. Then\, 
	Cookieprepares to state her own agenda for Empire and for herfamily\, when
	 Olivia arrives.\n
DTSTART:20150311T210000Z
DTEND:20150311T220000Z
END:VEVENT
END:VCALENDAR
