BEGIN:VCALENDAR
VERSION:2.0
PRODID:-//InvisionCommunity Events 4.7.23//EN
METHOD:PUBLISH
CALSCALE:GREGORIAN
REFRESH-INTERVAL:PT15M
X-PUBLISHED-TTL:PT15M
X-WR-CALNAME:At My TV
NAME:At My TV
BEGIN:VTIMEZONE
TZID:Europe/London
TZURL:http://tzurl.org/zoneinfo/Europe/London
X-LIC-LOCATION:Europe/London
BEGIN:DAYLIGHT
TZOFFSETFROM:+0000
TZOFFSETTO:+0100
TZNAME:BST
DTSTART:20150329T020000Z
RRULE:FREQ=YEARLY;BYMONTH=3;BYDAY=-1SU
END:DAYLIGHT
BEGIN:STANDARD
TZOFFSETFROM:+0100
TZOFFSETTO:+0000
TZNAME:GMT
DTSTART:20151025T020000Z
RRULE:FREQ=YEARLY;BYMONTH=10;BYDAY=-1SU
END:STANDARD
END:VTIMEZONE
BEGIN:VEVENT
SUMMARY:Banshee 3x10 - We All Pay Eventually
DTSTAMP:20150228T153907Z
SEQUENCE:0
UID:30282-2-841ebed20eb198c4569419e99b7bf40a@themidnightzone.com
ORGANIZER;CN="Midnight":midnight@themidnightzone.com
DESCRIPTION:\nAs Lucas recalls a secret chapter in his life\, Job getssp
	ecial treatment from a fan of his work\, while blaming Carriefor blowing t
	he group’s cover. Unexpectedly joined byGordon\, Lucas prepares to retur
	n to Genoa for a finalnegotiation with Stowe\, or die trying. Bunker vows 
	to shutdown the Brotherhood\, but his brother Calvin isn’t about toback 
	down. Joined by Rebecca and a new ally\, Proctor heads toPhilly to settle 
	a score with Frazier and the Black Beards.After a bloody denouement in Ban
	shee\, Brock finally gets whathe’s been wishing for.\n
DTSTART:20150314T020000Z
DTEND:20150314T030000Z
END:VEVENT
END:VCALENDAR
