BEGIN:VCALENDAR
VERSION:2.0
PRODID:-//InvisionCommunity Events 4.7.23//EN
METHOD:PUBLISH
CALSCALE:GREGORIAN
REFRESH-INTERVAL:PT15M
X-PUBLISHED-TTL:PT15M
X-WR-CALNAME:Pogdesign
NAME:Pogdesign
BEGIN:VTIMEZONE
TZID:Europe/London
TZURL:http://tzurl.org/zoneinfo/Europe/London
X-LIC-LOCATION:Europe/London
BEGIN:DAYLIGHT
TZOFFSETFROM:+0000
TZOFFSETTO:+0100
TZNAME:BST
DTSTART:20150329T020000Z
RRULE:FREQ=YEARLY;BYMONTH=3;BYDAY=-1SU
END:DAYLIGHT
BEGIN:STANDARD
TZOFFSETFROM:+0100
TZOFFSETTO:+0000
TZNAME:GMT
DTSTART:20151025T020000Z
RRULE:FREQ=YEARLY;BYMONTH=10;BYDAY=-1SU
END:STANDARD
END:VTIMEZONE
BEGIN:VEVENT
SUMMARY:The Originals 2x16 - Save My Soul
DTSTAMP:20150303T085406Z
SEQUENCE:0
UID:30487-3-841ebed20eb198c4569419e99b7bf40a@themidnightzone.com
ORGANIZER;CN="Midnight":midnight@themidnightzone.com
DESCRIPTION:\nSuspicious of where her true loyalties lie\, Klaus invites
	Freya to the compound in order to gain more insight into herpast with Dahl
	ia. After a series of strange visions\, Rebekahbegins to realize the body 
	she's inhabiting is attempting toregain control. With Rebekah's life on th
	e line\, Marcel putshis bargaining skills to the test when he turns to Vin
	cent\,who may have some knowledge that could help them. Lastly\, atthe bay
	ou\, Jackson's frustrations grow after Aiden questionshis leadership skill
	s.\n
DTSTART:20150316T200000Z
DTEND:20150316T210000Z
END:VEVENT
END:VCALENDAR
