BEGIN:VCALENDAR
VERSION:2.0
PRODID:-//InvisionCommunity Events 4.7.23//EN
METHOD:PUBLISH
CALSCALE:GREGORIAN
REFRESH-INTERVAL:PT15M
X-PUBLISHED-TTL:PT15M
X-WR-CALNAME:Pogdesign
NAME:Pogdesign
BEGIN:VTIMEZONE
TZID:Europe/London
TZURL:http://tzurl.org/zoneinfo/Europe/London
X-LIC-LOCATION:Europe/London
BEGIN:DAYLIGHT
TZOFFSETFROM:+0000
TZOFFSETTO:+0100
TZNAME:BST
DTSTART:20150329T020000Z
RRULE:FREQ=YEARLY;BYMONTH=3;BYDAY=-1SU
END:DAYLIGHT
BEGIN:STANDARD
TZOFFSETFROM:+0100
TZOFFSETTO:+0000
TZNAME:GMT
DTSTART:20151025T020000Z
RRULE:FREQ=YEARLY;BYMONTH=10;BYDAY=-1SU
END:STANDARD
END:VTIMEZONE
BEGIN:VEVENT
SUMMARY:Pawn Stars 9x47 - Sword Play
DTSTAMP:20150303T085406Z
SEQUENCE:0
UID:30491-3-841ebed20eb198c4569419e99b7bf40a@themidnightzone.com
ORGANIZER;CN="Midnight":midnight@themidnightzone.com
DESCRIPTION:\nRide along with the Pawn Stars when a 1951 Willys Wagon pu
	llsinto the shop. Will Rick kick the deal into high gear or willhe fall of
	f the wagon? Then\, Rick takes a stab at a pair of19th Century European sw
	ords. Will he keep his edge or will thedeal be cut short? And later\, when
	 the guys realize Rickhasn't shown up for work\, do they send out a search
	 party orthrow their own?\n
DTSTART:20150312T213000Z
DTEND:20150312T220000Z
END:VEVENT
END:VCALENDAR
