BEGIN:VCALENDAR
VERSION:2.0
PRODID:-//InvisionCommunity Events 4.7.23//EN
METHOD:PUBLISH
CALSCALE:GREGORIAN
REFRESH-INTERVAL:PT15M
X-PUBLISHED-TTL:PT15M
X-WR-CALNAME:At My TV
NAME:At My TV
BEGIN:VTIMEZONE
TZID:Europe/London
TZURL:http://tzurl.org/zoneinfo/Europe/London
X-LIC-LOCATION:Europe/London
BEGIN:DAYLIGHT
TZOFFSETFROM:+0000
TZOFFSETTO:+0100
TZNAME:BST
DTSTART:20150329T020000Z
RRULE:FREQ=YEARLY;BYMONTH=3;BYDAY=-1SU
END:DAYLIGHT
BEGIN:STANDARD
TZOFFSETFROM:+0100
TZOFFSETTO:+0000
TZNAME:GMT
DTSTART:20151025T020000Z
RRULE:FREQ=YEARLY;BYMONTH=10;BYDAY=-1SU
END:STANDARD
END:VTIMEZONE
BEGIN:VEVENT
SUMMARY:Dig 1x2 - Catch You Later
DTSTAMP:20150303T142448Z
SEQUENCE:0
UID:30523-2-841ebed20eb198c4569419e99b7bf40a@themidnightzone.com
ORGANIZER;CN="Midnight":midnight@themidnightzone.com
DESCRIPTION:\nPeter continues his personal quest to find the murderer of
	 ayoung American while also pursuing Yussef Khalid. Peter andDetective Gol
	an Cohen forge an uneasy partnership as Petergrapples with the most unexpe
	cted of revelations. Elsewhere\,Avram begins his journey to Israel with th
	e red heifer.Meanwhile\, Tad Billingham and his disciplines prepare Josh f
	ora new life and an event that could possibly change history.\n
DTSTART:20150313T020000Z
DTEND:20150313T030000Z
END:VEVENT
END:VCALENDAR
