BEGIN:VCALENDAR
VERSION:2.0
PRODID:-//InvisionCommunity Events 4.7.23//EN
METHOD:PUBLISH
CALSCALE:GREGORIAN
REFRESH-INTERVAL:PT15M
X-PUBLISHED-TTL:PT15M
X-WR-CALNAME:Pogdesign
NAME:Pogdesign
BEGIN:VTIMEZONE
TZID:Europe/London
TZURL:http://tzurl.org/zoneinfo/Europe/London
X-LIC-LOCATION:Europe/London
BEGIN:DAYLIGHT
TZOFFSETFROM:+0000
TZOFFSETTO:+0100
TZNAME:BST
DTSTART:20150329T020000Z
RRULE:FREQ=YEARLY;BYMONTH=3;BYDAY=-1SU
END:DAYLIGHT
BEGIN:STANDARD
TZOFFSETFROM:+0100
TZOFFSETTO:+0000
TZNAME:GMT
DTSTART:20151025T020000Z
RRULE:FREQ=YEARLY;BYMONTH=10;BYDAY=-1SU
END:STANDARD
END:VTIMEZONE
BEGIN:VEVENT
SUMMARY:Arrow 3x16 - The Offer
DTSTAMP:20150305T061011Z
SEQUENCE:0
UID:30620-3-841ebed20eb198c4569419e99b7bf40a@themidnightzone.com
ORGANIZER;CN="Midnight":midnight@themidnightzone.com
DESCRIPTION:\nStill weighed down by his last meeting with Ra's al Ghul\,
	Oliver returns home to find a new villain and his crew havestarted terrori
	zing Starling City - Michael Amar AKA Murmur\, aman whose mouth has been s
	ewn shut. Meanwhile\, Laurel andNyssa bond over their issues with their fa
	thers and Nyssa makeLaurel an offer. Thea is forced to come to terms with 
	herfather after Oliver brings Malcom to the loft to recover\, andLance shu
	ts out both Laurel and the Arrow.\n
DTSTART:20150318T200000Z
DTEND:20150318T210000Z
END:VEVENT
END:VCALENDAR
