BEGIN:VCALENDAR
VERSION:2.0
PRODID:-//InvisionCommunity Events 4.7.23//EN
METHOD:PUBLISH
CALSCALE:GREGORIAN
REFRESH-INTERVAL:PT15M
X-PUBLISHED-TTL:PT15M
X-WR-CALNAME:Pogdesign
NAME:Pogdesign
BEGIN:VTIMEZONE
TZID:Europe/London
TZURL:http://tzurl.org/zoneinfo/Europe/London
X-LIC-LOCATION:Europe/London
BEGIN:DAYLIGHT
TZOFFSETFROM:+0000
TZOFFSETTO:+0100
TZNAME:BST
DTSTART:20150329T020000Z
RRULE:FREQ=YEARLY;BYMONTH=3;BYDAY=-1SU
END:DAYLIGHT
BEGIN:STANDARD
TZOFFSETFROM:+0100
TZOFFSETTO:+0000
TZNAME:GMT
DTSTART:20151025T020000Z
RRULE:FREQ=YEARLY;BYMONTH=10;BYDAY=-1SU
END:STANDARD
END:VTIMEZONE
BEGIN:VEVENT
SUMMARY:The Vampire Diaries 6x17 - A Bird in a Gilded Cage
DTSTAMP:20150306T162059Z
SEQUENCE:0
UID:30722-3-841ebed20eb198c4569419e99b7bf40a@themidnightzone.com
ORGANIZER;CN="Midnight":midnight@themidnightzone.com
DESCRIPTION:\nWith the help of Bonnie and Kai\, Damon and Elena set fort
	h aplan to rescue Damon's mother Lily\, who is trapped in the 1903prison w
	orld. Meanwhile\, when Caroline's plan for Stefanbackfires\, she is left t
	o pick up the pieces. Elsewhere\, backat Whitmore College\, Enzo and Alari
	c's attempt to reelCaroline back in doesn't quite go as planned when they 
	realizethey're outmaneuvered. Lastly\, an unexpected gift from Bonnieleave
	s Damon shaken to his core.\n
DTSTART:20150319T200000Z
DTEND:20150319T210000Z
END:VEVENT
END:VCALENDAR
