BEGIN:VCALENDAR
VERSION:2.0
PRODID:-//InvisionCommunity Events 4.7.23//EN
METHOD:PUBLISH
CALSCALE:GREGORIAN
REFRESH-INTERVAL:PT15M
X-PUBLISHED-TTL:PT15M
X-WR-CALNAME:Pogdesign
NAME:Pogdesign
BEGIN:VTIMEZONE
TZID:Europe/London
TZURL:http://tzurl.org/zoneinfo/Europe/London
X-LIC-LOCATION:Europe/London
BEGIN:DAYLIGHT
TZOFFSETFROM:+0000
TZOFFSETTO:+0100
TZNAME:BST
DTSTART:20150329T020000Z
RRULE:FREQ=YEARLY;BYMONTH=3;BYDAY=-1SU
END:DAYLIGHT
BEGIN:STANDARD
TZOFFSETFROM:+0100
TZOFFSETTO:+0000
TZNAME:GMT
DTSTART:20151025T020000Z
RRULE:FREQ=YEARLY;BYMONTH=10;BYDAY=-1SU
END:STANDARD
END:VTIMEZONE
BEGIN:VEVENT
SUMMARY:AX Men 8x13 - Jet Logged
DTSTAMP:20150307T090648Z
SEQUENCE:0
UID:30725-3-841ebed20eb198c4569419e99b7bf40a@themidnightzone.com
ORGANIZER;CN="Midnight":midnight@themidnightzone.com
DESCRIPTION:\nShelby gets his jetboat back\, and it now has a new fivehu
	ndred horsepower engine that will help him get the job done.Up in Washingt
	on\, Rygaard is still struggling\, and with noother options\, Gabe is forc
	ed to promote his inexperiencedcrew\, which could spell disaster. And in C
	anada\, Dave McRaeand Triack Resources step up to the plate and bring in a
	 beastof a machine to get the wood out. Down in the high plains ofWyoming\
	, the Zitterkopfs are without their skidder\, but Davidcomes up with a pla
	n to save the day and keep delivering themuch needed wood to the mill. And
	 down in Florida\, GregChapman's decision to leave the logging in the hand
	s of hiscrew\, could cost him more than just productivity.\n
DTSTART:20150308T210000Z
DTEND:20150308T220000Z
END:VEVENT
END:VCALENDAR
