BEGIN:VCALENDAR
VERSION:2.0
PRODID:-//InvisionCommunity Events 4.7.23//EN
METHOD:PUBLISH
CALSCALE:GREGORIAN
REFRESH-INTERVAL:PT15M
X-PUBLISHED-TTL:PT15M
X-WR-CALNAME:At My TV
NAME:At My TV
BEGIN:VTIMEZONE
TZID:Europe/London
TZURL:http://tzurl.org/zoneinfo/Europe/London
X-LIC-LOCATION:Europe/London
BEGIN:DAYLIGHT
TZOFFSETFROM:+0000
TZOFFSETTO:+0100
TZNAME:BST
DTSTART:20150329T020000Z
RRULE:FREQ=YEARLY;BYMONTH=3;BYDAY=-1SU
END:DAYLIGHT
BEGIN:STANDARD
TZOFFSETFROM:+0100
TZOFFSETTO:+0000
TZNAME:GMT
DTSTART:20151025T020000Z
RRULE:FREQ=YEARLY;BYMONTH=10;BYDAY=-1SU
END:STANDARD
END:VTIMEZONE
BEGIN:VEVENT
SUMMARY:Pawn Stars 9x49 - Son of a Gun
DTSTAMP:20150309T182657Z
SEQUENCE:0
UID:30901-2-841ebed20eb198c4569419e99b7bf40a@themidnightzone.com
ORGANIZER;CN="Midnight":midnight@themidnightzone.com
DESCRIPTION:\nGet fired up with the Pawn Stars when a 1800s Wilkinson tu
	rretrifle shoots into the shop. Will Rick go in guns blazing orwill he fai
	l to pull the trigger? Then\, Chum buckles up whencelebrity engraved match
	boxes from the private jet\, \"TheStarship One\" flies in. Will he be able
	 to land thesecollectibles or will the price be plane crazy? And later\,Ch
	umlee volunteers to help the guys write descriptive cards forthe shop. Wil
	l he get his facts straight or will he need ahistory lesson?\n
DTSTART:20150320T013000Z
DTEND:20150320T020000Z
END:VEVENT
END:VCALENDAR
