BEGIN:VCALENDAR
VERSION:2.0
PRODID:-//InvisionCommunity Events 4.7.23//EN
METHOD:PUBLISH
CALSCALE:GREGORIAN
REFRESH-INTERVAL:PT15M
X-PUBLISHED-TTL:PT15M
X-WR-CALNAME:Pogdesign
NAME:Pogdesign
BEGIN:VTIMEZONE
TZID:Europe/London
TZURL:http://tzurl.org/zoneinfo/Europe/London
X-LIC-LOCATION:Europe/London
BEGIN:DAYLIGHT
TZOFFSETFROM:+0000
TZOFFSETTO:+0100
TZNAME:BST
DTSTART:20150329T020000Z
RRULE:FREQ=YEARLY;BYMONTH=3;BYDAY=-1SU
END:DAYLIGHT
BEGIN:STANDARD
TZOFFSETFROM:+0100
TZOFFSETTO:+0000
TZNAME:GMT
DTSTART:20151025T020000Z
RRULE:FREQ=YEARLY;BYMONTH=10;BYDAY=-1SU
END:STANDARD
END:VTIMEZONE
BEGIN:VEVENT
SUMMARY:Marvel's Agents of S.H.I.E.L.D. 2x14 - Love in the Time ofHY
	DRA
DTSTAMP:20150311T062353Z
SEQUENCE:0
UID:31000-3-841ebed20eb198c4569419e99b7bf40a@themidnightzone.com
ORGANIZER;CN="Midnight":midnight@themidnightzone.com
DESCRIPTION:\nCoulson and his team are still reeling from a shockingreve
	lation that leaves the team fractured as they must decidewhat to do with o
	ne of their own. Meanwhile\, Bobbi and Mackreveal their true allegiance to
	 Hunter\, while elsewhere\, Wardand Agent 33 embark on a personal mission.
	\n
DTSTART:20150324T210000Z
DTEND:20150324T220000Z
END:VEVENT
END:VCALENDAR
