BEGIN:VCALENDAR
VERSION:2.0
PRODID:-//InvisionCommunity Events 4.7.23//EN
METHOD:PUBLISH
CALSCALE:GREGORIAN
REFRESH-INTERVAL:PT15M
X-PUBLISHED-TTL:PT15M
X-WR-CALNAME:Pogdesign
NAME:Pogdesign
BEGIN:VTIMEZONE
TZID:Europe/London
TZURL:http://tzurl.org/zoneinfo/Europe/London
X-LIC-LOCATION:Europe/London
BEGIN:DAYLIGHT
TZOFFSETFROM:+0000
TZOFFSETTO:+0100
TZNAME:BST
DTSTART:20150329T020000Z
RRULE:FREQ=YEARLY;BYMONTH=3;BYDAY=-1SU
END:DAYLIGHT
BEGIN:STANDARD
TZOFFSETFROM:+0100
TZOFFSETTO:+0000
TZNAME:GMT
DTSTART:20151025T020000Z
RRULE:FREQ=YEARLY;BYMONTH=10;BYDAY=-1SU
END:STANDARD
END:VTIMEZONE
BEGIN:VEVENT
SUMMARY:Bluestone 42 3x4 - Series 3\, Episode 4
DTSTAMP:20150317T211001Z
SEQUENCE:0
UID:31336-3-841ebed20eb198c4569419e99b7bf40a@themidnightzone.com
ORGANIZER;CN="Midnight":midnight@themidnightzone.com
DESCRIPTION:\nEllen and Bird end up becoming room-mates\, but end up atc
	lashing over what Bird deems Ellen's ?girly' accoutrements.Towerblock is s
	tunned to find out that his wife has beenspending all their money on posh 
	food. Word reaches the teamthat a Taliban attack is about to happen which 
	does nothing tohelp Simon's paranoid suspicion about the new ANA recruit.\
	n
DTSTART:20150330T170000Z
DTEND:20150330T173000Z
END:VEVENT
END:VCALENDAR
