BEGIN:VCALENDAR
VERSION:2.0
PRODID:-//InvisionCommunity Events 4.7.23//EN
METHOD:PUBLISH
CALSCALE:GREGORIAN
REFRESH-INTERVAL:PT15M
X-PUBLISHED-TTL:PT15M
X-WR-CALNAME:At My TV
NAME:At My TV
BEGIN:VTIMEZONE
TZID:Europe/London
TZURL:http://tzurl.org/zoneinfo/Europe/London
X-LIC-LOCATION:Europe/London
BEGIN:DAYLIGHT
TZOFFSETFROM:+0000
TZOFFSETTO:+0100
TZNAME:BST
DTSTART:20150329T020000Z
RRULE:FREQ=YEARLY;BYMONTH=3;BYDAY=-1SU
END:DAYLIGHT
BEGIN:STANDARD
TZOFFSETFROM:+0100
TZOFFSETTO:+0000
TZNAME:GMT
DTSTART:20151025T020000Z
RRULE:FREQ=YEARLY;BYMONTH=10;BYDAY=-1SU
END:STANDARD
END:VTIMEZONE
BEGIN:VEVENT
SUMMARY:Arrow 3x18 - Public Enemy
DTSTAMP:20150319T181705Z
SEQUENCE:0
UID:31438-2-841ebed20eb198c4569419e99b7bf40a@themidnightzone.com
ORGANIZER;CN="Midnight":midnight@themidnightzone.com
DESCRIPTION:\nDuring an attack on the mayor’s office\, Ray is critical
	lyinjured. Felicity is pleasantly surprised when her mother\,Donna Smoak\,
	 shows up at the hospital to offer her support.With the SCPD out in full f
	orce looking for the assailant\,Oliver and his team work hard to stay one 
	step ahead of thepolice to find the man responsible. However\, things come
	 to ahead when Ra’s al Ghul kidnaps Captain Lance.\n
DTSTART:20150402T000000Z
DTEND:20150402T010000Z
END:VEVENT
END:VCALENDAR
