BEGIN:VCALENDAR
VERSION:2.0
PRODID:-//InvisionCommunity Events 4.7.23//EN
METHOD:PUBLISH
CALSCALE:GREGORIAN
REFRESH-INTERVAL:PT15M
X-PUBLISHED-TTL:PT15M
X-WR-CALNAME:At My TV
NAME:At My TV
BEGIN:VTIMEZONE
TZID:Europe/London
TZURL:http://tzurl.org/zoneinfo/Europe/London
X-LIC-LOCATION:Europe/London
BEGIN:DAYLIGHT
TZOFFSETFROM:+0000
TZOFFSETTO:+0100
TZNAME:BST
DTSTART:20150329T020000Z
RRULE:FREQ=YEARLY;BYMONTH=3;BYDAY=-1SU
END:DAYLIGHT
BEGIN:STANDARD
TZOFFSETFROM:+0100
TZOFFSETTO:+0000
TZNAME:GMT
DTSTART:20151025T020000Z
RRULE:FREQ=YEARLY;BYMONTH=10;BYDAY=-1SU
END:STANDARD
END:VTIMEZONE
BEGIN:VEVENT
SUMMARY:Pawn Stars 9x51 - Mystery Caller
DTSTAMP:20150324T095255Z
SEQUENCE:0
UID:31718-2-841ebed20eb198c4569419e99b7bf40a@themidnightzone.com
ORGANIZER;CN="Midnight":midnight@themidnightzone.com
DESCRIPTION:\nRoll with the punches when the Pawn Stars check out a Supe
	rmanvs. Muhammad Ali comic book. Will it be a knockout deal forCorey\, or 
	will he throw in the towel? Then\, Rick findshimself in the grey when insp
	ecting an Edward Hopper charcoalpiece. Will the deal be black and white\, 
	or will he draw ablank? And later\, Rick suspects that all the office phon
	es arebroken. Will the guys figure out why the phones are ringing offthe h
	ook\, or will they just hang it up?\n
DTSTART:20150327T013000Z
DTEND:20150327T020000Z
END:VEVENT
END:VCALENDAR
