BEGIN:VCALENDAR
VERSION:2.0
PRODID:-//InvisionCommunity Events 4.7.23//EN
METHOD:PUBLISH
CALSCALE:GREGORIAN
REFRESH-INTERVAL:PT15M
X-PUBLISHED-TTL:PT15M
X-WR-CALNAME:Pogdesign
NAME:Pogdesign
BEGIN:VTIMEZONE
TZID:Europe/London
TZURL:http://tzurl.org/zoneinfo/Europe/London
X-LIC-LOCATION:Europe/London
BEGIN:DAYLIGHT
TZOFFSETFROM:+0000
TZOFFSETTO:+0100
TZNAME:BST
DTSTART:20150329T020000Z
RRULE:FREQ=YEARLY;BYMONTH=3;BYDAY=-1SU
END:DAYLIGHT
BEGIN:STANDARD
TZOFFSETFROM:+0100
TZOFFSETTO:+0000
TZNAME:GMT
DTSTART:20151025T020000Z
RRULE:FREQ=YEARLY;BYMONTH=10;BYDAY=-1SU
END:STANDARD
END:VTIMEZONE
BEGIN:VEVENT
SUMMARY:Chicago Fire 3x19 - I Am the Apocalypse
DTSTAMP:20150325T123046Z
SEQUENCE:0
UID:31790-3-841ebed20eb198c4569419e99b7bf40a@themidnightzone.com
ORGANIZER;CN="Midnight":midnight@themidnightzone.com
DESCRIPTION:\nIt's all hands on deck when Firehouse 51 races to the scen
	e ofa deadly chemical leak inside an industrial building. Withsquad and tr
	uck tested like never before\, scores of workersare rescued but many are e
	xperiencing respiratory distress.This prompts truck 81\, squad 3 and ambul
	ance 61 to spring intoaction to transport the victims to nearby Chicago Me
	d. Thesituation takes a turn from bad to worse in the midst of thechaos wh
	en a \"patient\" planted inside the hospitalgoes on a suicide mission arme
	d with a grenade and claiming tobe the carrier of a deadly airborne diseas
	e. Trying to stop themadman from engaging the explosive device\, a member 
	of thefirehouse team is severely wounded in the blast and left toface life
	-threatening injuries. With no other choice\, ChicagoMed is forced into lo
	ckdown until doctors and the Hazmat teamcan determine the severity of the 
	airborne virus.\n
DTSTART:20150407T220000Z
DTEND:20150407T230000Z
END:VEVENT
END:VCALENDAR
