BEGIN:VCALENDAR
VERSION:2.0
PRODID:-//InvisionCommunity Events 4.7.23//EN
METHOD:PUBLISH
CALSCALE:GREGORIAN
REFRESH-INTERVAL:PT15M
X-PUBLISHED-TTL:PT15M
X-WR-CALNAME:At My TV
NAME:At My TV
BEGIN:VTIMEZONE
TZID:Europe/London
TZURL:http://tzurl.org/zoneinfo/Europe/London
X-LIC-LOCATION:Europe/London
BEGIN:DAYLIGHT
TZOFFSETFROM:+0000
TZOFFSETTO:+0100
TZNAME:BST
DTSTART:20150329T020000Z
RRULE:FREQ=YEARLY;BYMONTH=3;BYDAY=-1SU
END:DAYLIGHT
BEGIN:STANDARD
TZOFFSETFROM:+0100
TZOFFSETTO:+0000
TZNAME:GMT
DTSTART:20151025T020000Z
RRULE:FREQ=YEARLY;BYMONTH=10;BYDAY=-1SU
END:STANDARD
END:VTIMEZONE
BEGIN:VEVENT
SUMMARY:Banished 1x6 - Episode 6
DTSTAMP:20150326T091503Z
SEQUENCE:0
UID:31812-2-841ebed20eb198c4569419e99b7bf40a@themidnightzone.com
ORGANIZER;CN="Midnight":midnight@themidnightzone.com
DESCRIPTION:\nAfter the truth about Private Buckley's accusations aboutE
	lizabeth Barrett begin to sink in\, Tommy Barrett is furiousand he batters
	 him to within an inch of his life. James Freemanand Elizabeth's attempt t
	o stop him but Tommy does a thoroughjob. Major Ross feels there can be no 
	exceptions or reprievesand Tommy Barrett must be made an example of and hu
	ng.\n
DTSTART:20150409T200000Z
DTEND:20150409T210000Z
END:VEVENT
END:VCALENDAR
