BEGIN:VCALENDAR
VERSION:2.0
PRODID:-//InvisionCommunity Events 4.7.23//EN
METHOD:PUBLISH
CALSCALE:GREGORIAN
REFRESH-INTERVAL:PT15M
X-PUBLISHED-TTL:PT15M
X-WR-CALNAME:At My TV
NAME:At My TV
BEGIN:VTIMEZONE
TZID:Europe/London
TZURL:http://tzurl.org/zoneinfo/Europe/London
X-LIC-LOCATION:Europe/London
BEGIN:DAYLIGHT
TZOFFSETFROM:+0000
TZOFFSETTO:+0100
TZNAME:BST
DTSTART:20150329T020000Z
RRULE:FREQ=YEARLY;BYMONTH=3;BYDAY=-1SU
END:DAYLIGHT
BEGIN:STANDARD
TZOFFSETFROM:+0100
TZOFFSETTO:+0000
TZNAME:GMT
DTSTART:20151025T020000Z
RRULE:FREQ=YEARLY;BYMONTH=10;BYDAY=-1SU
END:STANDARD
END:VTIMEZONE
BEGIN:VEVENT
SUMMARY:Restaurant: Impossible 11x4 - When Life Gives You Lemons...
DTSTAMP:20150326T091503Z
SEQUENCE:0
UID:31835-2-841ebed20eb198c4569419e99b7bf40a@themidnightzone.com
ORGANIZER;CN="Midnight":midnight@themidnightzone.com
DESCRIPTION:\nThis time on Restaurant: Impossible ... it's a new twist o
	n theshow you know and love. Robert's mission takes him just outsideof Chi
	cago\, to Zest Bistro — a restaurant located INSIDE TheLemon Tree Grocer
	! For the first time in RI history\, Roberthas to fix both a restaurant AN
	D a grocery store! Robert'sfirst order of business — take off his chef h
	at and turn onhis supermarket smarts! Best friends Shaun Black and TimCann
	ing combined their skills as a produce broker and a trainedchef to open a 
	gourmet grocery store with a full-service bistroinside. Four-and-a-half ye
	ars later\, both sides of thebusiness are failing. One million\, two milli
	on\, nearly threemillion dollars later\, the debts and the stakes are clim
	bingsky high. Tim and Shaun spent years trying to set their storeup for su
	ccess\, but it still wasn't working. With the help ofa grocery expert\, Ro
	bert teaches the young owners that nearlyeverything they thought they were
	 doing right ... is wrong.Gourmet cheeses stationed next to the raw fish? 
	Yech. Robertrealizes that in addition to fixing the bistro\, he will needt
	o find the time and resources to reorganize the entire storeto make it mak
	e sense to shoppers! The bistro\, itself\, is awhole other can of worms ..
	. it was built as an afterthoughtand looks like it! Oddly separated from t
	he market by strandsof beads\, the atmosphere is cold and uncomfortable. T
	hechallenge is to make the space warm\, inviting and somehowcompatible wit
	h the grocery store. With the bistro on track toget a full-on renovation a
	nd the grocery store\, hopefully\,getting a much-needed reorganization\, t
	here's one piece of thepuzzle left to fix — the owners! Not only do Tim 
	and Shaundisagree about basic ways to run the business\, there's alsoTim's
	 wife\, Jessica. About a year ago Tim asked her to jump onboard at Lemon T
	ree but it has made Shaun feel like the thirdwheel. The friction between t
	he two best friends is draggingdown both sides of the business. Can Robert
	 make peace amongthis headstrong threesome? Even more\, can he give the bi
	stro amore inviting feel\, and make the grocer a place where thelocals act
	ually want to shop — all in just two days? If not\,things could turn inc
	redibly sour at the Lemon Tree.\n
DTSTART:20150409T020000Z
DTEND:20150409T030000Z
END:VEVENT
END:VCALENDAR
