BEGIN:VCALENDAR
VERSION:2.0
PRODID:-//InvisionCommunity Events 4.7.23//EN
METHOD:PUBLISH
CALSCALE:GREGORIAN
REFRESH-INTERVAL:PT15M
X-PUBLISHED-TTL:PT15M
X-WR-CALNAME:Pogdesign
NAME:Pogdesign
BEGIN:VTIMEZONE
TZID:Europe/London
TZURL:http://tzurl.org/zoneinfo/Europe/London
X-LIC-LOCATION:Europe/London
BEGIN:DAYLIGHT
TZOFFSETFROM:+0000
TZOFFSETTO:+0100
TZNAME:BST
DTSTART:20150329T020000Z
RRULE:FREQ=YEARLY;BYMONTH=3;BYDAY=-1SU
END:DAYLIGHT
BEGIN:STANDARD
TZOFFSETFROM:+0100
TZOFFSETTO:+0000
TZNAME:GMT
DTSTART:20151025T020000Z
RRULE:FREQ=YEARLY;BYMONTH=10;BYDAY=-1SU
END:STANDARD
END:VTIMEZONE
BEGIN:VEVENT
SUMMARY:The Goldbergs 2x18 - I Drank the Mold
DTSTAMP:20150328T214140Z
SEQUENCE:0
UID:31995-3-841ebed20eb198c4569419e99b7bf40a@themidnightzone.com
ORGANIZER;CN="Midnight":midnight@themidnightzone.com
DESCRIPTION:\nDuring his birthday sleepover Beverly has planned\, Adam's
	friend Garry shares his dad's home brewed beer and getseveryone sick. Many
	 of the parents believe Adam is a badinfluence and forbid his friends from
	 hanging out with him.Meanwhile\, Murray tells Barry and Erica he will buy
	 a new CDplayer only if they are able to write the greatest song ever.What
	 they write is horrible but when Murray hears the song\, herecognizes Eric
	a's singing talent and her love of music.\n
DTSTART:20150408T203000Z
DTEND:20150408T210000Z
END:VEVENT
END:VCALENDAR
