BEGIN:VCALENDAR
VERSION:2.0
PRODID:-//InvisionCommunity Events 4.7.23//EN
METHOD:PUBLISH
CALSCALE:GREGORIAN
REFRESH-INTERVAL:PT15M
X-PUBLISHED-TTL:PT15M
X-WR-CALNAME:Pogdesign
NAME:Pogdesign
BEGIN:VTIMEZONE
TZID:Europe/London
TZURL:http://tzurl.org/zoneinfo/Europe/London
X-LIC-LOCATION:Europe/London
BEGIN:DAYLIGHT
TZOFFSETFROM:+0000
TZOFFSETTO:+0100
TZNAME:BST
DTSTART:20150329T020000Z
RRULE:FREQ=YEARLY;BYMONTH=3;BYDAY=-1SU
END:DAYLIGHT
BEGIN:STANDARD
TZOFFSETFROM:+0100
TZOFFSETTO:+0000
TZNAME:GMT
DTSTART:20151025T020000Z
RRULE:FREQ=YEARLY;BYMONTH=10;BYDAY=-1SU
END:STANDARD
END:VTIMEZONE
BEGIN:VEVENT
SUMMARY:The Middle 6x19 - Siblings and Sombreros
DTSTAMP:20150328T214140Z
SEQUENCE:0
UID:32006-3-841ebed20eb198c4569419e99b7bf40a@themidnightzone.com
ORGANIZER;CN="Midnight":midnight@themidnightzone.com
DESCRIPTION:\nAfter Axl forgets to bring home a sombrero that Sue needs 
	for aspecial high school senior photo she's setting up with Brad\,she beco
	mes super angry and won't let up on arguing with him.In an attempt to reme
	dy the situation\, Frankie takes Mike'sadvice to individually tell Sue and
	 Axl the truth about how shethinks each of them is handling the situation\
	, which causeseven more friction amongst the bickering siblings. Meanwhile
	\,Mike is shocked to learn that Brick has been awarded with themiddle scho
	ol's Athlete of the Month award.\n
DTSTART:20150408T200000Z
DTEND:20150408T203000Z
END:VEVENT
END:VCALENDAR
