BEGIN:VCALENDAR
VERSION:2.0
PRODID:-//InvisionCommunity Events 4.7.23//EN
METHOD:PUBLISH
CALSCALE:GREGORIAN
REFRESH-INTERVAL:PT15M
X-PUBLISHED-TTL:PT15M
X-WR-CALNAME:Pogdesign
NAME:Pogdesign
BEGIN:VTIMEZONE
TZID:Europe/London
TZURL:http://tzurl.org/zoneinfo/Europe/London
X-LIC-LOCATION:Europe/London
BEGIN:DAYLIGHT
TZOFFSETFROM:+0000
TZOFFSETTO:+0100
TZNAME:BST
DTSTART:20150329T020000Z
RRULE:FREQ=YEARLY;BYMONTH=3;BYDAY=-1SU
END:DAYLIGHT
BEGIN:STANDARD
TZOFFSETFROM:+0100
TZOFFSETTO:+0000
TZNAME:GMT
DTSTART:20151025T020000Z
RRULE:FREQ=YEARLY;BYMONTH=10;BYDAY=-1SU
END:STANDARD
END:VTIMEZONE
BEGIN:VEVENT
SUMMARY:Ordinary Lies 1x4 - Series 1\, Episode 4
DTSTAMP:20150330T011037Z
SEQUENCE:0
UID:32064-3-841ebed20eb198c4569419e99b7bf40a@themidnightzone.com
ORGANIZER;CN="Midnight":midnight@themidnightzone.com
DESCRIPTION:\nRick is reluctant to give up his fun-loving lifestyle and 
	stillworks as a part-time DJ and is always the life and soul of theparty. 
	He is secretly trapped in an unhappy marriage thoughwhich has reached brea
	king point. He becomes homeless andsleeps in a van in the showroom car par
	k. After Mike foundsout\, he offers to put him a place to stay for a few n
	ights andget him back on track.\n
DTSTART:20150407T160000Z
DTEND:20150407T170000Z
END:VEVENT
END:VCALENDAR
