BEGIN:VCALENDAR
VERSION:2.0
PRODID:-//InvisionCommunity Events 4.7.23//EN
METHOD:PUBLISH
CALSCALE:GREGORIAN
REFRESH-INTERVAL:PT15M
X-PUBLISHED-TTL:PT15M
X-WR-CALNAME:Pogdesign
NAME:Pogdesign
BEGIN:VTIMEZONE
TZID:Europe/London
TZURL:http://tzurl.org/zoneinfo/Europe/London
X-LIC-LOCATION:Europe/London
BEGIN:DAYLIGHT
TZOFFSETFROM:+0000
TZOFFSETTO:+0100
TZNAME:BST
DTSTART:20150329T020000Z
RRULE:FREQ=YEARLY;BYMONTH=3;BYDAY=-1SU
END:DAYLIGHT
BEGIN:STANDARD
TZOFFSETFROM:+0100
TZOFFSETTO:+0000
TZNAME:GMT
DTSTART:20151025T020000Z
RRULE:FREQ=YEARLY;BYMONTH=10;BYDAY=-1SU
END:STANDARD
END:VTIMEZONE
BEGIN:VEVENT
SUMMARY:American Odyssey 1x2 - Oscar Mike
DTSTAMP:20150330T094830Z
SEQUENCE:0
UID:32074-3-841ebed20eb198c4569419e99b7bf40a@themidnightzone.com
ORGANIZER;CN="Midnight":midnight@themidnightzone.com
DESCRIPTION:\nSgt. Odelle Ballard\, aware of the target on her back\,des
	perately tries to avoid detection as she and her youngMalian companion Asl
	am hide among the Tuareg on theirpilgrimage through the desert. In New Yor
	k\, Harrison Waltersfears for his own reputation when hacker Bob becomes r
	eluctantto share his evidence that Odelle Ballard is alive. Racked withgui
	lt over the murder of drone pilot Danny Gentry\, Peter takeshis suspicions
	 about Societel to the Department of Justice andfaces threats after attemp
	ting to gather information againstthe company from within.\n
DTSTART:20150412T220000Z
DTEND:20150412T230000Z
END:VEVENT
END:VCALENDAR
