BEGIN:VCALENDAR
VERSION:2.0
PRODID:-//InvisionCommunity Events 4.7.23//EN
METHOD:PUBLISH
CALSCALE:GREGORIAN
REFRESH-INTERVAL:PT15M
X-PUBLISHED-TTL:PT15M
X-WR-CALNAME:Pogdesign
NAME:Pogdesign
BEGIN:VTIMEZONE
TZID:Europe/London
TZURL:http://tzurl.org/zoneinfo/Europe/London
X-LIC-LOCATION:Europe/London
BEGIN:DAYLIGHT
TZOFFSETFROM:+0000
TZOFFSETTO:+0100
TZNAME:BST
DTSTART:20150329T020000Z
RRULE:FREQ=YEARLY;BYMONTH=3;BYDAY=-1SU
END:DAYLIGHT
BEGIN:STANDARD
TZOFFSETFROM:+0100
TZOFFSETTO:+0000
TZNAME:GMT
DTSTART:20151025T020000Z
RRULE:FREQ=YEARLY;BYMONTH=10;BYDAY=-1SU
END:STANDARD
END:VTIMEZONE
BEGIN:VEVENT
SUMMARY:Secrets & Lies 1x7 - The Cop
DTSTAMP:20150330T094830Z
SEQUENCE:0
UID:32088-3-841ebed20eb198c4569419e99b7bf40a@themidnightzone.com
ORGANIZER;CN="Midnight":midnight@themidnightzone.com
DESCRIPTION:\nBen visits a prison inmate who provides information that m
	ightprove Detective Cornell is pushing the boundaries of the law.With the 
	\"help\" of Arthur Fenton\, Ben attempts tobring Cornell down\, but an ano
	nymous tip puts the spotlightback on Ben as the prime suspect\, and the Cr
	awford familyfinally collapses under the strain.\n
DTSTART:20150412T210000Z
DTEND:20150412T220000Z
END:VEVENT
END:VCALENDAR
