BEGIN:VCALENDAR
VERSION:2.0
PRODID:-//InvisionCommunity Events 4.7.23//EN
METHOD:PUBLISH
CALSCALE:GREGORIAN
REFRESH-INTERVAL:PT15M
X-PUBLISHED-TTL:PT15M
X-WR-CALNAME:Pogdesign
NAME:Pogdesign
BEGIN:VTIMEZONE
TZID:Europe/London
TZURL:http://tzurl.org/zoneinfo/Europe/London
X-LIC-LOCATION:Europe/London
BEGIN:DAYLIGHT
TZOFFSETFROM:+0000
TZOFFSETTO:+0100
TZNAME:BST
DTSTART:20150329T020000Z
RRULE:FREQ=YEARLY;BYMONTH=3;BYDAY=-1SU
END:DAYLIGHT
BEGIN:STANDARD
TZOFFSETFROM:+0100
TZOFFSETTO:+0000
TZNAME:GMT
DTSTART:20151025T020000Z
RRULE:FREQ=YEARLY;BYMONTH=10;BYDAY=-1SU
END:STANDARD
END:VTIMEZONE
BEGIN:VEVENT
SUMMARY:The Originals 2x18 - Night Has A Thousand Eyes
DTSTAMP:20150331T201142Z
SEQUENCE:0
UID:32177-3-841ebed20eb198c4569419e99b7bf40a@themidnightzone.com
ORGANIZER;CN="Midnight":midnight@themidnightzone.com
DESCRIPTION:\nDesperate to find a way to vanquish Dahlia\, Klaus soon fi
	ndshimself face-to-face with another deadly threat - Mikael.Meanwhile\, as
	 Hayley and Rebekah work with Freya to trackDahlia's whereabouts\, Elijah 
	and Marcel prepare a safe housein Algiers with the help of Josephine. Else
	where\, determinedto protect Hayley and baby Hope\, Jackson approaches Hay
	leywith a risky idea that leaves her conflicted. Finally\, Aidenfinds hims
	elf torn between his loyalty to Jackson and hissecret alliance with Klaus.
	\n
DTSTART:20150413T200000Z
DTEND:20150413T210000Z
END:VEVENT
END:VCALENDAR
