BEGIN:VCALENDAR
VERSION:2.0
PRODID:-//InvisionCommunity Events 4.7.23//EN
METHOD:PUBLISH
CALSCALE:GREGORIAN
REFRESH-INTERVAL:PT15M
X-PUBLISHED-TTL:PT15M
X-WR-CALNAME:Pogdesign
NAME:Pogdesign
BEGIN:VTIMEZONE
TZID:Europe/London
TZURL:http://tzurl.org/zoneinfo/Europe/London
X-LIC-LOCATION:Europe/London
BEGIN:DAYLIGHT
TZOFFSETFROM:+0000
TZOFFSETTO:+0100
TZNAME:BST
DTSTART:20150329T020000Z
RRULE:FREQ=YEARLY;BYMONTH=3;BYDAY=-1SU
END:DAYLIGHT
BEGIN:STANDARD
TZOFFSETFROM:+0100
TZOFFSETTO:+0000
TZNAME:GMT
DTSTART:20151025T020000Z
RRULE:FREQ=YEARLY;BYMONTH=10;BYDAY=-1SU
END:STANDARD
END:VTIMEZONE
BEGIN:VEVENT
SUMMARY:NOVA 42x17 - The Great Math Mystery
DTSTAMP:20150402T143816Z
SEQUENCE:0
UID:32264-3-841ebed20eb198c4569419e99b7bf40a@themidnightzone.com
ORGANIZER;CN="Midnight":midnight@themidnightzone.com
DESCRIPTION:\nJoin NOVA on a mathematical mystery tour-a provocativeexpl
	oration of math's astonishing power across the centuries.We discover math'
	s signature in the swirl of a nautilus shell\,the whirlpool of a galaxy\, 
	and the spiral in the center of asunflower. Math was essential to everythi
	ng from the firstwireless radio transmissions to the prediction and discov
	ery ofthe Higgs boson and the successful landing of rovers on Mars.Astroph
	ysicist and writer Mario Livio\, along with a colorfulcast of mathematicia
	ns\, physicists\, and engineers\, followmath from Pythagoras to Einstein a
	nd beyond. It all leads tothe ultimate riddle: Is math a human invention o
	r the discoveryof the language of the universe?.\n
DTSTART:20150415T210000Z
DTEND:20150415T220000Z
END:VEVENT
END:VCALENDAR
