BEGIN:VCALENDAR
VERSION:2.0
PRODID:-//InvisionCommunity Events 4.7.23//EN
METHOD:PUBLISH
CALSCALE:GREGORIAN
REFRESH-INTERVAL:PT15M
X-PUBLISHED-TTL:PT15M
X-WR-CALNAME:At My TV
NAME:At My TV
BEGIN:VTIMEZONE
TZID:Europe/London
TZURL:http://tzurl.org/zoneinfo/Europe/London
X-LIC-LOCATION:Europe/London
BEGIN:DAYLIGHT
TZOFFSETFROM:+0000
TZOFFSETTO:+0100
TZNAME:BST
DTSTART:20150329T020000Z
RRULE:FREQ=YEARLY;BYMONTH=3;BYDAY=-1SU
END:DAYLIGHT
BEGIN:STANDARD
TZOFFSETFROM:+0100
TZOFFSETTO:+0000
TZNAME:GMT
DTSTART:20151025T020000Z
RRULE:FREQ=YEARLY;BYMONTH=10;BYDAY=-1SU
END:STANDARD
END:VTIMEZONE
BEGIN:VEVENT
SUMMARY:Shipping Wars 7x16 - A Disco Robot and Castle Hassle
DTSTAMP:20150402T175045Z
SEQUENCE:0
UID:32293-2-841ebed20eb198c4569419e99b7bf40a@themidnightzone.com
ORGANIZER;CN="Midnight":midnight@themidnightzone.com
DESCRIPTION:\nAfter winning a fire-breathing Disco Robot bound for a mus
	icfestival\, Chris Kikelhan soon grows nostalgic for the days ofeasier run
	s after he struggles to get it all to fit at the pickup\, meanwhile with h
	is Fiberglass castle load\, Dusty gets ataste of royalty when the client h
	as some peculiar demands.\n
DTSTART:20150402T023000Z
DTEND:20150402T030000Z
END:VEVENT
END:VCALENDAR
