BEGIN:VCALENDAR
VERSION:2.0
PRODID:-//InvisionCommunity Events 4.7.23//EN
METHOD:PUBLISH
CALSCALE:GREGORIAN
REFRESH-INTERVAL:PT15M
X-PUBLISHED-TTL:PT15M
X-WR-CALNAME:Pogdesign
NAME:Pogdesign
BEGIN:VTIMEZONE
TZID:Europe/London
TZURL:http://tzurl.org/zoneinfo/Europe/London
X-LIC-LOCATION:Europe/London
BEGIN:DAYLIGHT
TZOFFSETFROM:+0000
TZOFFSETTO:+0100
TZNAME:BST
DTSTART:20150329T020000Z
RRULE:FREQ=YEARLY;BYMONTH=3;BYDAY=-1SU
END:DAYLIGHT
BEGIN:STANDARD
TZOFFSETFROM:+0100
TZOFFSETTO:+0000
TZNAME:GMT
DTSTART:20151025T020000Z
RRULE:FREQ=YEARLY;BYMONTH=10;BYDAY=-1SU
END:STANDARD
END:VTIMEZONE
BEGIN:VEVENT
SUMMARY:Bones 10x14 - The Putter in the Rough
DTSTAMP:20150404T030919Z
SEQUENCE:0
UID:32347-3-841ebed20eb198c4569419e99b7bf40a@themidnightzone.com
ORGANIZER;CN="Midnight":midnight@themidnightzone.com
DESCRIPTION:\nThe Jeffersonian team unravels an unexpectedly competitive
	world of mini-golf as they try to figure out the murder of thesport's supe
	rstar. Meanwhile\, Brennan is worried her fatherMax is reverting to his cr
	iminal tendencies and\"squintern\" Wendell Bray enlists Hodgins to helphim
	 fix his girlfriend's family heirloom.\n
DTSTART:20150416T200000Z
DTEND:20150416T210000Z
END:VEVENT
END:VCALENDAR
