BEGIN:VCALENDAR
VERSION:2.0
PRODID:-//InvisionCommunity Events 4.7.23//EN
METHOD:PUBLISH
CALSCALE:GREGORIAN
REFRESH-INTERVAL:PT15M
X-PUBLISHED-TTL:PT15M
X-WR-CALNAME:At My TV
NAME:At My TV
BEGIN:VTIMEZONE
TZID:Europe/London
TZURL:http://tzurl.org/zoneinfo/Europe/London
X-LIC-LOCATION:Europe/London
BEGIN:DAYLIGHT
TZOFFSETFROM:+0000
TZOFFSETTO:+0100
TZNAME:BST
DTSTART:20150329T020000Z
RRULE:FREQ=YEARLY;BYMONTH=3;BYDAY=-1SU
END:DAYLIGHT
BEGIN:STANDARD
TZOFFSETFROM:+0100
TZOFFSETTO:+0000
TZNAME:GMT
DTSTART:20151025T020000Z
RRULE:FREQ=YEARLY;BYMONTH=10;BYDAY=-1SU
END:STANDARD
END:VTIMEZONE
BEGIN:VEVENT
SUMMARY:Poldark (2015) 1x7 - Episode 7
DTSTAMP:20150405T221515Z
SEQUENCE:0
UID:32460-2-841ebed20eb198c4569419e99b7bf40a@themidnightzone.com
ORGANIZER;CN="Midnight":midnight@themidnightzone.com
DESCRIPTION:\nRoss finds it hard to keep the Carnmore smelting company g
	oingand George Warleggan is determined to see it close down.George’s age
	nts outbid Carnmore so that it has no copper andGeorge attempts to talk it
	s shareholders\, who all remainsecret except Ross. Following a rockfall at
	 Wheal Leisure Markreturns home early and discovers that Keren is not ther
	e. Hefinds her at Dwight's house and learns that they have beensleeping to
	gether.\n
DTSTART:20150419T200000Z
DTEND:20150419T210000Z
END:VEVENT
END:VCALENDAR
