BEGIN:VCALENDAR
VERSION:2.0
PRODID:-//InvisionCommunity Events 4.7.23//EN
METHOD:PUBLISH
CALSCALE:GREGORIAN
REFRESH-INTERVAL:PT15M
X-PUBLISHED-TTL:PT15M
X-WR-CALNAME:Pogdesign
NAME:Pogdesign
BEGIN:VTIMEZONE
TZID:Europe/London
TZURL:http://tzurl.org/zoneinfo/Europe/London
X-LIC-LOCATION:Europe/London
BEGIN:DAYLIGHT
TZOFFSETFROM:+0000
TZOFFSETTO:+0100
TZNAME:BST
DTSTART:20150329T020000Z
RRULE:FREQ=YEARLY;BYMONTH=3;BYDAY=-1SU
END:DAYLIGHT
BEGIN:STANDARD
TZOFFSETFROM:+0100
TZOFFSETTO:+0000
TZNAME:GMT
DTSTART:20151025T020000Z
RRULE:FREQ=YEARLY;BYMONTH=10;BYDAY=-1SU
END:STANDARD
END:VTIMEZONE
BEGIN:VEVENT
SUMMARY:Nurse Jackie 7x2 - Deal
DTSTAMP:20150406T094331Z
SEQUENCE:0
UID:32486-3-841ebed20eb198c4569419e99b7bf40a@themidnightzone.com
ORGANIZER;CN="Midnight":midnight@themidnightzone.com
DESCRIPTION:\nJackie sets her sights on returning to All Saints\, aided 
	byher pit bull lawyer - the problem is she can't afford to payhis retainer
	. Strapped for cash\, Jackie gets inventive\,turning to her old habits for
	 a solution. Jackie goestoe-to-toe with Kevin after discovering his financ
	ialduplicity. Zoey struggles with the news that Jackie may bereturning to 
	the ER.\n
DTSTART:20150419T210000Z
DTEND:20150419T213000Z
END:VEVENT
END:VCALENDAR
