BEGIN:VCALENDAR
VERSION:2.0
PRODID:-//InvisionCommunity Events 4.7.23//EN
METHOD:PUBLISH
CALSCALE:GREGORIAN
REFRESH-INTERVAL:PT15M
X-PUBLISHED-TTL:PT15M
X-WR-CALNAME:Pogdesign
NAME:Pogdesign
BEGIN:VTIMEZONE
TZID:Europe/London
TZURL:http://tzurl.org/zoneinfo/Europe/London
X-LIC-LOCATION:Europe/London
BEGIN:DAYLIGHT
TZOFFSETFROM:+0000
TZOFFSETTO:+0100
TZNAME:BST
DTSTART:20150329T020000Z
RRULE:FREQ=YEARLY;BYMONTH=3;BYDAY=-1SU
END:DAYLIGHT
BEGIN:STANDARD
TZOFFSETFROM:+0100
TZOFFSETTO:+0000
TZNAME:GMT
DTSTART:20151025T020000Z
RRULE:FREQ=YEARLY;BYMONTH=10;BYDAY=-1SU
END:STANDARD
END:VTIMEZONE
BEGIN:VEVENT
SUMMARY:Storage Wars 6x23 - It's All Smoke and Mirrors
DTSTAMP:20150406T094331Z
SEQUENCE:0
UID:32499-3-841ebed20eb198c4569419e99b7bf40a@themidnightzone.com
ORGANIZER;CN="Midnight":midnight@themidnightzone.com
DESCRIPTION:\nThe buyers venture out to Rancho Cucamonga\, CA where ever
	yoneis on the hunt for something big. Ivy has no problem spendinghis bucks
	 for the right locker. Darrell and Brandon have got ahunger they need to f
	eed. Jarrod and Brandi hope their daydoesn't suck\, while Mary looks to sp
	ruce up a locker with someof that ol' Mary magic.\n
DTSTART:20150415T213000Z
DTEND:20150415T220000Z
END:VEVENT
END:VCALENDAR
