BEGIN:VCALENDAR
VERSION:2.0
PRODID:-//InvisionCommunity Events 4.7.23//EN
METHOD:PUBLISH
CALSCALE:GREGORIAN
REFRESH-INTERVAL:PT15M
X-PUBLISHED-TTL:PT15M
X-WR-CALNAME:At My TV
NAME:At My TV
BEGIN:VTIMEZONE
TZID:Europe/London
TZURL:http://tzurl.org/zoneinfo/Europe/London
X-LIC-LOCATION:Europe/London
BEGIN:DAYLIGHT
TZOFFSETFROM:+0000
TZOFFSETTO:+0100
TZNAME:BST
DTSTART:20150329T020000Z
RRULE:FREQ=YEARLY;BYMONTH=3;BYDAY=-1SU
END:DAYLIGHT
BEGIN:STANDARD
TZOFFSETFROM:+0100
TZOFFSETTO:+0000
TZNAME:GMT
DTSTART:20151025T020000Z
RRULE:FREQ=YEARLY;BYMONTH=10;BYDAY=-1SU
END:STANDARD
END:VTIMEZONE
BEGIN:VEVENT
SUMMARY:Intervention 15x4 - Zach / Theresa
DTSTAMP:20150407T030127Z
SEQUENCE:0
UID:32540-2-841ebed20eb198c4569419e99b7bf40a@themidnightzone.com
ORGANIZER;CN="Midnight":midnight@themidnightzone.com
DESCRIPTION:\nWhile still a child\, Zach's father was incarcerated\, and
	 Zachand his sister were adopted by their loving grandparents. WhenZach's 
	father was released from jail he moved in with thegrandparents\, hoping fo
	r a fresh start. It didn't take longfor his father to fall of the wagon\, 
	and in fact\, it wasZach's father who first introduced Zach to heroin. Usi
	ng\, butstill functional\, Zach met his girlfriend Whitney\, and twoyears 
	ago\, she had their son. Today Zach's cocaine &amp\; heroinaddiction is ou
	t of control. Whitney has turned to interventionfor help. Theresa swore sh
	e wouldn't end up like her mother whowas a raging alcoholic. However\, yea
	rs later after severalfailed relationships and children\, Theresa finds he
	rselfdrinking uncontrollably.\n
DTSTART:20150413T020000Z
DTEND:20150413T030000Z
END:VEVENT
END:VCALENDAR
