BEGIN:VCALENDAR
VERSION:2.0
PRODID:-//InvisionCommunity Events 4.7.23//EN
METHOD:PUBLISH
CALSCALE:GREGORIAN
REFRESH-INTERVAL:PT15M
X-PUBLISHED-TTL:PT15M
X-WR-CALNAME:At My TV
NAME:At My TV
BEGIN:VTIMEZONE
TZID:Europe/London
TZURL:http://tzurl.org/zoneinfo/Europe/London
X-LIC-LOCATION:Europe/London
BEGIN:DAYLIGHT
TZOFFSETFROM:+0000
TZOFFSETTO:+0100
TZNAME:BST
DTSTART:20150329T020000Z
RRULE:FREQ=YEARLY;BYMONTH=3;BYDAY=-1SU
END:DAYLIGHT
BEGIN:STANDARD
TZOFFSETFROM:+0100
TZOFFSETTO:+0000
TZNAME:GMT
DTSTART:20151025T020000Z
RRULE:FREQ=YEARLY;BYMONTH=10;BYDAY=-1SU
END:STANDARD
END:VTIMEZONE
BEGIN:VEVENT
SUMMARY:Intervention 15x5 - Daniel
DTSTAMP:20150407T030127Z
SEQUENCE:0
UID:32541-2-841ebed20eb198c4569419e99b7bf40a@themidnightzone.com
ORGANIZER;CN="Midnight":midnight@themidnightzone.com
DESCRIPTION:\n27-year-old Daniel could have pursued a career as an artis
	t andsongwriter\, but a series of personal tragedies--culminating inhis fa
	ther's death--led him to abuse a dangerous combination ofalcohol and meth.
	 His daily consumption has not only destroyedhis artistic ambitions\, its 
	alienated him from his family andfriends. Daniel's family is certain that 
	if he doesn't get helpsoon\, he will die. Daniel's mother the only family 
	member thatstill regularly associates with him\, pays for Daniel to livein
	 a week-to-week motel room to keep him off the streets.Recently Daniel res
	umed a romantic relationship with Sarah\, afellow addict who supplies Dani
	el with alcohol and theirbooze--fueled nights escalate Daniel's already se
	riousaddiction to deadly lows. Now in a last ditch effort\, hisfamily come
	s together for an intervention.\n
DTSTART:20150420T020000Z
DTEND:20150420T030000Z
END:VEVENT
END:VCALENDAR
