BEGIN:VCALENDAR
VERSION:2.0
PRODID:-//InvisionCommunity Events 4.7.23//EN
METHOD:PUBLISH
CALSCALE:GREGORIAN
REFRESH-INTERVAL:PT15M
X-PUBLISHED-TTL:PT15M
X-WR-CALNAME:Pogdesign
NAME:Pogdesign
BEGIN:VTIMEZONE
TZID:Europe/London
TZURL:http://tzurl.org/zoneinfo/Europe/London
X-LIC-LOCATION:Europe/London
BEGIN:DAYLIGHT
TZOFFSETFROM:+0000
TZOFFSETTO:+0100
TZNAME:BST
DTSTART:20150329T020000Z
RRULE:FREQ=YEARLY;BYMONTH=3;BYDAY=-1SU
END:DAYLIGHT
BEGIN:STANDARD
TZOFFSETFROM:+0100
TZOFFSETTO:+0000
TZNAME:GMT
DTSTART:20151025T020000Z
RRULE:FREQ=YEARLY;BYMONTH=10;BYDAY=-1SU
END:STANDARD
END:VTIMEZONE
BEGIN:VEVENT
SUMMARY:The Goldbergs 2x19 - La Biblioteca Es Libros
DTSTAMP:20150407T202033Z
SEQUENCE:0
UID:32554-3-841ebed20eb198c4569419e99b7bf40a@themidnightzone.com
ORGANIZER;CN="Midnight":midnight@themidnightzone.com
DESCRIPTION:\nMuch to Beverly's surprise\, she cannot believe Adam is fa
	ilingSpanish class and blames his teacher. Beverly speaks withSenora Tarab
	orelli and pays her to tutor Adam instead ofputting him in remedial Spanis
	h. But the situation backfireswhen Adam gives an oral presentation and tot
	ally bombs.Meanwhile\, Barry gets a job delivering pizzas to impressMurray
	 but Erica is upset Murray doesn't acknowledge she's hada job and has been
	 responsible all throughout her teen years.\n
DTSTART:20150415T203000Z
DTEND:20150415T210000Z
END:VEVENT
END:VCALENDAR
