BEGIN:VCALENDAR
VERSION:2.0
PRODID:-//InvisionCommunity Events 4.7.23//EN
METHOD:PUBLISH
CALSCALE:GREGORIAN
REFRESH-INTERVAL:PT15M
X-PUBLISHED-TTL:PT15M
X-WR-CALNAME:At My TV
NAME:At My TV
BEGIN:VTIMEZONE
TZID:Europe/London
TZURL:http://tzurl.org/zoneinfo/Europe/London
X-LIC-LOCATION:Europe/London
BEGIN:DAYLIGHT
TZOFFSETFROM:+0000
TZOFFSETTO:+0100
TZNAME:BST
DTSTART:20150329T020000Z
RRULE:FREQ=YEARLY;BYMONTH=3;BYDAY=-1SU
END:DAYLIGHT
BEGIN:STANDARD
TZOFFSETFROM:+0100
TZOFFSETTO:+0000
TZNAME:GMT
DTSTART:20151025T020000Z
RRULE:FREQ=YEARLY;BYMONTH=10;BYDAY=-1SU
END:STANDARD
END:VTIMEZONE
BEGIN:VEVENT
SUMMARY:The Flash (2014) 1x19 - Who Is Harrison Wells?
DTSTAMP:20150408T050345Z
SEQUENCE:0
UID:32589-2-841ebed20eb198c4569419e99b7bf40a@themidnightzone.com
ORGANIZER;CN="Midnight":midnight@themidnightzone.com
DESCRIPTION:\nJoe and Cisco head to Starling City to continue theirinves
	tigation of Dr. Wells. While in town\, the duo enlists thehelp of Captain 
	Lance\, and Cisco meets the Black Canary\, whoasks him for a favor. Meanwh
	ile\, back in Central City\, Barryraces to catch a meta-human named Hannib
	al Bates who cantransform himself into every person he touches - which inc
	ludesEddie\, Iris\, Caitlin\, and even the Flash.\n
DTSTART:20150422T000000Z
DTEND:20150422T010000Z
END:VEVENT
END:VCALENDAR
