BEGIN:VCALENDAR
VERSION:2.0
PRODID:-//InvisionCommunity Events 4.7.23//EN
METHOD:PUBLISH
CALSCALE:GREGORIAN
REFRESH-INTERVAL:PT15M
X-PUBLISHED-TTL:PT15M
X-WR-CALNAME:At My TV
NAME:At My TV
BEGIN:VTIMEZONE
TZID:Europe/London
TZURL:http://tzurl.org/zoneinfo/Europe/London
X-LIC-LOCATION:Europe/London
BEGIN:DAYLIGHT
TZOFFSETFROM:+0000
TZOFFSETTO:+0100
TZNAME:BST
DTSTART:20150329T020000Z
RRULE:FREQ=YEARLY;BYMONTH=3;BYDAY=-1SU
END:DAYLIGHT
BEGIN:STANDARD
TZOFFSETFROM:+0100
TZOFFSETTO:+0000
TZNAME:GMT
DTSTART:20151025T020000Z
RRULE:FREQ=YEARLY;BYMONTH=10;BYDAY=-1SU
END:STANDARD
END:VTIMEZONE
BEGIN:VEVENT
SUMMARY:Party Down South 4x0 - Talk of Shame (7)
DTSTAMP:20150410T143037Z
SEQUENCE:0
UID:32743-2-841ebed20eb198c4569419e99b7bf40a@themidnightzone.com
ORGANIZER;CN="Midnight":midnight@themidnightzone.com
DESCRIPTION:\nThe biggest partiers in the South – Daddy\, Lyle\, Murra
	y\,Walt\, Lauren\, Mattie\, Tiffany and new cast member Hannah“Hott Do
	gg” are ready for a summer of fun in Biloxi\, Miss.As the roommates arri
	ve in Mississippi for another wildvacation\, they quickly realize they’r
	e a “Lil’ Bit”short of eight people. The party must Go On though\, e
	speciallyfor Daddy\, who pursues not one\, but two of his roommates.While 
	Tiffany and Lauren seem unsure about their new roommateHott Dogg\, the guy
	s are pretty excited about the energy andsexiness she brings to the house.
	\n
DTSTART:20150410T010000Z
DTEND:20150410T020000Z
END:VEVENT
END:VCALENDAR
