BEGIN:VCALENDAR
VERSION:2.0
PRODID:-//InvisionCommunity Events 4.7.23//EN
METHOD:PUBLISH
CALSCALE:GREGORIAN
REFRESH-INTERVAL:PT15M
X-PUBLISHED-TTL:PT15M
X-WR-CALNAME:At My TV
NAME:At My TV
BEGIN:VTIMEZONE
TZID:Europe/London
TZURL:http://tzurl.org/zoneinfo/Europe/London
X-LIC-LOCATION:Europe/London
BEGIN:DAYLIGHT
TZOFFSETFROM:+0000
TZOFFSETTO:+0100
TZNAME:BST
DTSTART:20150329T020000Z
RRULE:FREQ=YEARLY;BYMONTH=3;BYDAY=-1SU
END:DAYLIGHT
BEGIN:STANDARD
TZOFFSETFROM:+0100
TZOFFSETTO:+0000
TZNAME:GMT
DTSTART:20151025T020000Z
RRULE:FREQ=YEARLY;BYMONTH=10;BYDAY=-1SU
END:STANDARD
END:VTIMEZONE
BEGIN:VEVENT
SUMMARY:The Red Road 2x4 - A Cure
DTSTAMP:20150410T143037Z
SEQUENCE:0
UID:32747-2-841ebed20eb198c4569419e99b7bf40a@themidnightzone.com
ORGANIZER;CN="Midnight":midnight@themidnightzone.com
DESCRIPTION:\nBelieving his career is over\, Harold meets with the Mayor
	 whoreveals the gun found on the dead man matches the gun thatkilled Mac. 
	Harold is promoted to Captain and visits Jack toget more information after
	 receiving a cryptic note left byCaptain Warren. Rachel finds Jean’s dia
	ry and is deeplydisturbed. Kopus confronts Harold about believing Levi’s
	 menare behind Mac’s death. Jack reveals that the mob and theMayor collu
	ded to dump paint sludge in the mines. Haroldconfronts Jean’s father abo
	ut this revelation but he deniesany knowledge. Jean finds Rachel convulsin
	g on the floor of thebathroom after taking some of Jean’s anti-psychotic
	s. Kopusvisits Sonya again and tries to give her some of the money\,but th
	e plan backfires and gunshots are fired. Junior heads offto meet Levi\, hi
	s father and Chief of the Lenape tribe.\n
DTSTART:20150424T020000Z
DTEND:20150424T030000Z
END:VEVENT
END:VCALENDAR
