BEGIN:VCALENDAR
VERSION:2.0
PRODID:-//InvisionCommunity Events 4.7.23//EN
METHOD:PUBLISH
CALSCALE:GREGORIAN
REFRESH-INTERVAL:PT15M
X-PUBLISHED-TTL:PT15M
X-WR-CALNAME:At My TV
NAME:At My TV
BEGIN:VTIMEZONE
TZID:Europe/London
TZURL:http://tzurl.org/zoneinfo/Europe/London
X-LIC-LOCATION:Europe/London
BEGIN:DAYLIGHT
TZOFFSETFROM:+0000
TZOFFSETTO:+0100
TZNAME:BST
DTSTART:20150329T020000Z
RRULE:FREQ=YEARLY;BYMONTH=3;BYDAY=-1SU
END:DAYLIGHT
BEGIN:STANDARD
TZOFFSETFROM:+0100
TZOFFSETTO:+0000
TZNAME:GMT
DTSTART:20151025T020000Z
RRULE:FREQ=YEARLY;BYMONTH=10;BYDAY=-1SU
END:STANDARD
END:VTIMEZONE
BEGIN:VEVENT
SUMMARY:Poldark (2015) 1x8 - Episode 8
DTSTAMP:20150412T144722Z
SEQUENCE:0
UID:32830-2-841ebed20eb198c4569419e99b7bf40a@themidnightzone.com
ORGANIZER;CN="Midnight":midnight@themidnightzone.com
DESCRIPTION:\nRoss attempts to turn around the fortunes of Carnmore one 
	lasttime but afterhe is outbid he reluctantly shuts the companydown. Georg
	e takes the opportunity to rub his face in it.Feeling guilty about Keren
	’s death\, Dwight immerses himselfinto work\, dealing with an outbreak o
	f the putrid throat. Rossfinds out that all at Trenwith are stricken with 
	the diseaseand he attempts to persuade Dwight to treat them. Demelzaattemp
	ts to help and becomes infected and passes it on to babyJulia.\n
DTSTART:20150426T200000Z
DTEND:20150426T210000Z
END:VEVENT
END:VCALENDAR
