BEGIN:VCALENDAR
VERSION:2.0
PRODID:-//InvisionCommunity Events 4.7.23//EN
METHOD:PUBLISH
CALSCALE:GREGORIAN
REFRESH-INTERVAL:PT15M
X-PUBLISHED-TTL:PT15M
X-WR-CALNAME:Pogdesign
NAME:Pogdesign
BEGIN:VTIMEZONE
TZID:Europe/London
TZURL:http://tzurl.org/zoneinfo/Europe/London
X-LIC-LOCATION:Europe/London
BEGIN:DAYLIGHT
TZOFFSETFROM:+0000
TZOFFSETTO:+0100
TZNAME:BST
DTSTART:20150329T020000Z
RRULE:FREQ=YEARLY;BYMONTH=3;BYDAY=-1SU
END:DAYLIGHT
BEGIN:STANDARD
TZOFFSETFROM:+0100
TZOFFSETTO:+0000
TZNAME:GMT
DTSTART:20151025T020000Z
RRULE:FREQ=YEARLY;BYMONTH=10;BYDAY=-1SU
END:STANDARD
END:VTIMEZONE
BEGIN:VEVENT
SUMMARY:Chicago Fire 3x21 - We Called Her Jellybean (1)
DTSTAMP:20150415T181859Z
SEQUENCE:0
UID:33037-3-841ebed20eb198c4569419e99b7bf40a@themidnightzone.com
ORGANIZER;CN="Midnight":midnight@themidnightzone.com
DESCRIPTION:\nAn apartment fire linked to a case of rape and attempted m
	urdercalls for members of the CPD to team with the Special VictimsUnit\, w
	hich had a similar unresolved case that has eluded themfor more than 10 ye
	ars. This prompts Sgt. Benson to come infrom New York to assist with the i
	nvestigation in which she isall too familiar. Meanwhile\, doubts among the
	 squad towardsone of their own causes Severide to lay down the law and Daw
	sonputs her life on the line during a call.\n
DTSTART:20150428T220000Z
DTEND:20150428T230000Z
END:VEVENT
END:VCALENDAR
