BEGIN:VCALENDAR
VERSION:2.0
PRODID:-//InvisionCommunity Events 4.7.23//EN
METHOD:PUBLISH
CALSCALE:GREGORIAN
REFRESH-INTERVAL:PT15M
X-PUBLISHED-TTL:PT15M
X-WR-CALNAME:Pogdesign
NAME:Pogdesign
BEGIN:VTIMEZONE
TZID:Europe/London
TZURL:http://tzurl.org/zoneinfo/Europe/London
X-LIC-LOCATION:Europe/London
BEGIN:DAYLIGHT
TZOFFSETFROM:+0000
TZOFFSETTO:+0100
TZNAME:BST
DTSTART:20150329T020000Z
RRULE:FREQ=YEARLY;BYMONTH=3;BYDAY=-1SU
END:DAYLIGHT
BEGIN:STANDARD
TZOFFSETFROM:+0100
TZOFFSETTO:+0000
TZNAME:GMT
DTSTART:20151025T020000Z
RRULE:FREQ=YEARLY;BYMONTH=10;BYDAY=-1SU
END:STANDARD
END:VTIMEZONE
BEGIN:VEVENT
SUMMARY:The Middle 6x22 - While You Were Sleeping
DTSTAMP:20150416T063512Z
SEQUENCE:0
UID:33077-3-841ebed20eb198c4569419e99b7bf40a@themidnightzone.com
ORGANIZER;CN="Midnight":midnight@themidnightzone.com
DESCRIPTION:\nFrankie and Mike attempt to have a romantic date night at 
	homeby renting a movie. But every time they turn it on\, they endup fallin
	g asleep and try desperately to get through the filmover a series of night
	s. Meanwhile\, Axl teams up with Brick toinvent the next big thing\, and t
	he Heck Brothers Old-TimeyBarbecue Sauce is born\; and Sue is floored when
	 she's asked toher senior prom by a hunky mall store greeter. But she has 
	tofigure out a way to get out of work early in order to attend.\n
DTSTART:20150429T200000Z
DTEND:20150429T203000Z
END:VEVENT
END:VCALENDAR
