BEGIN:VCALENDAR
VERSION:2.0
PRODID:-//InvisionCommunity Events 4.7.23//EN
METHOD:PUBLISH
CALSCALE:GREGORIAN
REFRESH-INTERVAL:PT15M
X-PUBLISHED-TTL:PT15M
X-WR-CALNAME:Pogdesign
NAME:Pogdesign
BEGIN:VTIMEZONE
TZID:Europe/London
TZURL:http://tzurl.org/zoneinfo/Europe/London
X-LIC-LOCATION:Europe/London
BEGIN:DAYLIGHT
TZOFFSETFROM:+0000
TZOFFSETTO:+0100
TZNAME:BST
DTSTART:20150329T020000Z
RRULE:FREQ=YEARLY;BYMONTH=3;BYDAY=-1SU
END:DAYLIGHT
BEGIN:STANDARD
TZOFFSETFROM:+0100
TZOFFSETTO:+0000
TZNAME:GMT
DTSTART:20151025T020000Z
RRULE:FREQ=YEARLY;BYMONTH=10;BYDAY=-1SU
END:STANDARD
END:VTIMEZONE
BEGIN:VEVENT
SUMMARY:Nashville 3x19 - The Storm Has Just Begun
DTSTAMP:20150416T063512Z
SEQUENCE:0
UID:33080-3-841ebed20eb198c4569419e99b7bf40a@themidnightzone.com
ORGANIZER;CN="Midnight":midnight@themidnightzone.com
DESCRIPTION:\nThe brightest stars of Nashville have gathered in support 
	ofTeddy's music education initiative\, \"Note ByNote\"\, where Juliette pl
	ans her return to the spotlight- and Layla finds herself thrust into it - 
	alongside Jade St.John. At the gala\, Rayna\, Deacon\, Maddie and Daphne g
	etready to take the stage and perform\, but before they can\,Deacon receiv
	es the call he's been waiting for containing somelife-changing news.\n
DTSTART:20150422T220000Z
DTEND:20150422T230000Z
END:VEVENT
END:VCALENDAR
