BEGIN:VCALENDAR
VERSION:2.0
PRODID:-//InvisionCommunity Events 4.7.23//EN
METHOD:PUBLISH
CALSCALE:GREGORIAN
REFRESH-INTERVAL:PT15M
X-PUBLISHED-TTL:PT15M
X-WR-CALNAME:Pogdesign
NAME:Pogdesign
BEGIN:VTIMEZONE
TZID:Europe/London
TZURL:http://tzurl.org/zoneinfo/Europe/London
X-LIC-LOCATION:Europe/London
BEGIN:DAYLIGHT
TZOFFSETFROM:+0000
TZOFFSETTO:+0100
TZNAME:BST
DTSTART:20150329T020000Z
RRULE:FREQ=YEARLY;BYMONTH=3;BYDAY=-1SU
END:DAYLIGHT
BEGIN:STANDARD
TZOFFSETFROM:+0100
TZOFFSETTO:+0000
TZNAME:GMT
DTSTART:20151025T020000Z
RRULE:FREQ=YEARLY;BYMONTH=10;BYDAY=-1SU
END:STANDARD
END:VTIMEZONE
BEGIN:VEVENT
SUMMARY:Other Space 1x5 - Trouble's Brew-ing
DTSTAMP:20150416T063512Z
SEQUENCE:0
UID:33087-3-841ebed20eb198c4569419e99b7bf40a@themidnightzone.com
ORGANIZER;CN="Midnight":midnight@themidnightzone.com
DESCRIPTION:\nMichael and Tina are sent down to the planet for a six-hou
	rfuel retrieval mission - upon arrival\, they realize thatthanks to a plan
	etary quirk\, they'll be stuck there for theequivalent of eight months. Th
	ey progress from apathy toromance to insanity in a single afternoon. Onboa
	rd the ship\,Kent\, Natasha and A.R.T. stage a robot revolt against Stewar
	tand Karen's leadership\, with the help of a vengeful coffeemaker.\n
DTSTART:20150418T235900Z
DTEND:20150419T002900Z
END:VEVENT
END:VCALENDAR
