BEGIN:VCALENDAR
VERSION:2.0
PRODID:-//InvisionCommunity Events 4.7.23//EN
METHOD:PUBLISH
CALSCALE:GREGORIAN
REFRESH-INTERVAL:PT15M
X-PUBLISHED-TTL:PT15M
X-WR-CALNAME:At My TV
NAME:At My TV
BEGIN:VTIMEZONE
TZID:Europe/London
TZURL:http://tzurl.org/zoneinfo/Europe/London
X-LIC-LOCATION:Europe/London
BEGIN:DAYLIGHT
TZOFFSETFROM:+0000
TZOFFSETTO:+0100
TZNAME:BST
DTSTART:20150329T020000Z
RRULE:FREQ=YEARLY;BYMONTH=3;BYDAY=-1SU
END:DAYLIGHT
BEGIN:STANDARD
TZOFFSETFROM:+0100
TZOFFSETTO:+0000
TZNAME:GMT
DTSTART:20151025T020000Z
RRULE:FREQ=YEARLY;BYMONTH=10;BYDAY=-1SU
END:STANDARD
END:VTIMEZONE
BEGIN:VEVENT
SUMMARY:One Big Happy 1x6 - Wedlocked
DTSTAMP:20150421T041931Z
SEQUENCE:0
UID:33387-2-841ebed20eb198c4569419e99b7bf40a@themidnightzone.com
ORGANIZER;CN="Midnight":midnight@themidnightzone.com
DESCRIPTION:\nAfter Luke learns about a secret that Prudence has been ke
	epingfrom everyone\, he disappears - leaving both their future andher immi
	gration status in serious jeopardy. While Lizzyattempts to console Prudenc
	e and fix the situation\, Luke hitsthe bars with Markus. And when all look
	s lost\, Lizzy jumps inwith a big\, bold solution that will catch everyone
	 bysurprise.\n\n
DTSTART:20150429T013000Z
DTEND:20150429T020000Z
END:VEVENT
END:VCALENDAR
