BEGIN:VCALENDAR
VERSION:2.0
PRODID:-//InvisionCommunity Events 4.7.23//EN
METHOD:PUBLISH
CALSCALE:GREGORIAN
REFRESH-INTERVAL:PT15M
X-PUBLISHED-TTL:PT15M
X-WR-CALNAME:Pogdesign
NAME:Pogdesign
BEGIN:VTIMEZONE
TZID:Europe/London
TZURL:http://tzurl.org/zoneinfo/Europe/London
X-LIC-LOCATION:Europe/London
BEGIN:DAYLIGHT
TZOFFSETFROM:+0000
TZOFFSETTO:+0100
TZNAME:BST
DTSTART:20150329T020000Z
RRULE:FREQ=YEARLY;BYMONTH=3;BYDAY=-1SU
END:DAYLIGHT
BEGIN:STANDARD
TZOFFSETFROM:+0100
TZOFFSETTO:+0000
TZNAME:GMT
DTSTART:20151025T020000Z
RRULE:FREQ=YEARLY;BYMONTH=10;BYDAY=-1SU
END:STANDARD
END:VTIMEZONE
BEGIN:VEVENT
SUMMARY:The Red Road 2x6 - Shadow Walker
DTSTAMP:20150424T133614Z
SEQUENCE:0
UID:33558-3-841ebed20eb198c4569419e99b7bf40a@themidnightzone.com
ORGANIZER;CN="Midnight":midnight@themidnightzone.com
DESCRIPTION:\nHarold and Kopus find Junior alive in the woods. Kopusdist
	racts Levi's men while Harold and Junior make their way tothe road and fla
	g down a car. Kopus barely escapes gunshots inthe woods. In New Jersey\, J
	ean spirals further out of control.She confronts her father about his acti
	ons against her brother.Her father reluctantly admits it but maintains it 
	was forBrian's own good. Jean lashes out and seeks vengeance for herbrothe
	r. Harold later goes to Marie to make peace and to giveher the information
	 about the dumping and Jack's connection toit. Reluctantly\, Marie visits 
	Jack in prison who gives herback the photograph of Kopus as a child\, whic
	h has proof ofthe city's culpability. That night\, Levi and his men attack
	the Lenape. Kopus defends the tribe but may find his effortsare not enough
	 to save those closest to him.\n
DTSTART:20150507T220000Z
DTEND:20150507T230000Z
END:VEVENT
END:VCALENDAR
