BEGIN:VCALENDAR
VERSION:2.0
PRODID:-//InvisionCommunity Events 4.7.23//EN
METHOD:PUBLISH
CALSCALE:GREGORIAN
REFRESH-INTERVAL:PT15M
X-PUBLISHED-TTL:PT15M
X-WR-CALNAME:Pogdesign
NAME:Pogdesign
BEGIN:VTIMEZONE
TZID:Europe/London
TZURL:http://tzurl.org/zoneinfo/Europe/London
X-LIC-LOCATION:Europe/London
BEGIN:DAYLIGHT
TZOFFSETFROM:+0000
TZOFFSETTO:+0100
TZNAME:BST
DTSTART:20150329T020000Z
RRULE:FREQ=YEARLY;BYMONTH=3;BYDAY=-1SU
END:DAYLIGHT
BEGIN:STANDARD
TZOFFSETFROM:+0100
TZOFFSETTO:+0000
TZNAME:GMT
DTSTART:20151025T020000Z
RRULE:FREQ=YEARLY;BYMONTH=10;BYDAY=-1SU
END:STANDARD
END:VTIMEZONE
BEGIN:VEVENT
SUMMARY:Secrets & Lies 1x9 - The Mother
DTSTAMP:20150424T133614Z
SEQUENCE:0
UID:33562-3-841ebed20eb198c4569419e99b7bf40a@themidnightzone.com
ORGANIZER;CN="Midnight":midnight@themidnightzone.com
DESCRIPTION:\nBen's discovery in the attic further exacerbates his tensi
	onwith Christy\, who\, to make matters worse\, continues to keepthe kids a
	way from him. When Ben finally does get some muchneeded father-daughter ti
	me with Abby at the Christmas fair\,an unwelcome guest changes the course 
	of the evening.Meanwhile\, after the leak in the crime lab left most of th
	eforensic evidence in Tom's case unusable\, Det. Cornell refusesto sit idl
	y by and wait for everything to be re-tested. Shereturns to the crime scen
	e\, hoping to find something new todrive her towards an arrest.\n
DTSTART:20150426T210000Z
DTEND:20150426T220000Z
END:VEVENT
END:VCALENDAR
