BEGIN:VCALENDAR
VERSION:2.0
PRODID:-//InvisionCommunity Events 4.7.23//EN
METHOD:PUBLISH
CALSCALE:GREGORIAN
REFRESH-INTERVAL:PT15M
X-PUBLISHED-TTL:PT15M
X-WR-CALNAME:Pogdesign
NAME:Pogdesign
BEGIN:VTIMEZONE
TZID:Europe/London
TZURL:http://tzurl.org/zoneinfo/Europe/London
X-LIC-LOCATION:Europe/London
BEGIN:DAYLIGHT
TZOFFSETFROM:+0000
TZOFFSETTO:+0100
TZNAME:BST
DTSTART:20150329T020000Z
RRULE:FREQ=YEARLY;BYMONTH=3;BYDAY=-1SU
END:DAYLIGHT
BEGIN:STANDARD
TZOFFSETFROM:+0100
TZOFFSETTO:+0000
TZNAME:GMT
DTSTART:20151025T020000Z
RRULE:FREQ=YEARLY;BYMONTH=10;BYDAY=-1SU
END:STANDARD
END:VTIMEZONE
BEGIN:VEVENT
SUMMARY:The Originals 2x22 - Ashes To Ashes
DTSTAMP:20150428T180631Z
SEQUENCE:0
UID:33793-3-841ebed20eb198c4569419e99b7bf40a@themidnightzone.com
ORGANIZER;CN="Midnight":midnight@themidnightzone.com
DESCRIPTION:\nWith time running out\, Klaus' ultimate plan to protect ba
	byHope at all costs continues to take shape. As tensions betweenthe siblin
	gs come to a head\, Cami reveals a vital piece ofinformation that causes E
	lijah and Rebekah to reconsider theirplan of attack against Dahlia. Davina
	 finds herself one stepcloser to fulfilling the promise she made to Kol\, 
	while Freyais forced to take drastic measures to protect herself againstDa
	hlia. Elsewhere\, Marcel has to put aside his fury at Klausin order to pro
	tect himself and everyone in their sire line.Meanwhile\, Vincent finds him
	self torn between the prospects ofa magic-free life away from New Orleans 
	and a personalobligation to protect Davina. Finally\, with their risky pla
	nin place\, the Mikaelson siblings prepare for the fight oftheir lives.\n
DTSTART:20150511T200000Z
DTEND:20150511T210000Z
END:VEVENT
END:VCALENDAR
